BEGIN_USGS_DOQ_HEADER *
QUADRANGLE_NAME "BENTON HOT SPRINGS" 3.45 or 7.5-min. name*
QUADRANT SW quadrant indicator if cell size = 3.75-minutes*
WEST_LONGITUDE -118 37 30.000 signed deg min sec SDDD MM SS.SSS*
EAST_LONGITUDE -118 33 45.000 signed deg min sec SDDD MM SS.SSS*
NORTH_LATITUDE 37 48 45.000 signed deg min sec SDDD MM SS.SSS*
SOUTH_LATITUDE 37 45 0.000 signed deg min sec SDDD MM SS.SSS*
PRODUCTION_DATE 1998 4 28 yyyy mm dd*
RASTER_ORDER LEFT_RIGHT/TOP_BOTTOM video display order*
BAND_ORGANIZATION "SINGLE FILE" single file or BSQ, or BIL or BIP*
BAND_CONTENT BLACK&WHITE black&white or red green blue*
BITS_PER_PIXEL 8 radiometric resolution*
SAMPLES_AND_LINES 6310 7638 number of columns and rows*
HORIZONTAL_DATUM NAD83 primary horizontal datum*
HORIZONTAL_COORDINATE_SYSTEM UTM *
COORDINATE_ZONE 11 coordinate system zone number*
HORIZONTAL_UNITS METERS coordinate system units*
HORIZONTAL_RESOLUTION 1.00 pixel horiz. ground sample distance*
SECONDARY_HORIZONTAL_DATUM NAD27 secondary horizontal datum*
XY_ORIGIN 356455.000 4186556.000 coord. of upper left pixel pri. datum*
SECONDARY_XY_ORIGIN 356536.032 4186356.896 coord upper left pixel sec datum*
NATION US nation code*
STATE CA state fip code*
NW_QUAD_CORNER_XY 356962.047 4186255.592 XY coords. of pri. NW quad corner*
NE_QUAD_CORNER_XY 362463.855 4186161.743 XY coords. of pri. NE quad corner*
SE_QUAD_CORNER_XY 362347.962 4179226.847 XY coords. of pri. SE quad corner*
SW_QUAD_CORNER_XY 356841.515 4179320.643 XY coords. of pri. SW quad corner*
SECONDARY_NW_QUAD_XY 356958.488 4186050.399 XY coords. - sec. NW quad cor.*
SECONDARY_NE_QUAD_XY 362460.433 4185956.547 XY coords. - sec. NE quad cor.*
SECONDARY_SE_QUAD_XY 362344.543 4179021.804 XY coords. - sec. SE quad cor.*
SECONDARY_SW_QUAD_XY 356837.958 4179115.603 XY coords. - sec. SW quad cor.*
RMSE_XY 2.70 doq horiz. accuracy*
IMAGE_SOURCE "BLACK AND WHITE FILM" b&w, cir, natural color, other*
SOURCE_IMAGE_ID "NAPP 6307 164" source image id*
SOURCE_IMAGE_DATE 1993 07 19 source image date as yyyy mm dd*
IMAGE_SOURCE "BLACK AND WHITE FILM" b&w, cir, natural color, other*
SOURCE_IMAGE_ID "NAPP 6307 165" source image id*
SOURCE_IMAGE_DATE 1993 07 19 source image date as yyyy mm dd*
IMAGE_SOURCE "BLACK AND WHITE FILM" b&w, cir, natural color, other*
SOURCE_IMAGE_ID "NAPP 6307 190" source image id*
SOURCE_IMAGE_DATE 1993 07 19 source image date as yyyy mm dd*
IMAGE_SOURCE "BLACK AND WHITE FILM" b&w, cir, natural color, other*
SOURCE_IMAGE_ID "NAPP 6307 192" source image id*
SOURCE_IMAGE_DATE 1993 07 19 source image date as yyyy mm dd*
SOURCE_DEM_DATE 1997 01 01 source dem date yyyy mm dd*
AGENCY "WESTERN MAPPING CENTER (WMC)" oversight agency*
PRODUCER "SCIENCE APPLICATIONS INTERNATIONAL" producer/contractor*
PRODUCTION_SYSTEM "GIS/MAGIC" production system*
STANDARD_VERSION 1996 12 version of DOQ standard*
METADATA_DATE 1998 06 16 date created or changed, yyyy mm dd*
DATA_FILE_SIZE 48202090 data set size in bytes*
BYTE_COUNT 6310 header byte count* * * * * * * * * * * * * * * * * * * * * * * * * * *
END_USGS_HEADER *
