BEGIN_USGS_DOQ_HEADER *
QUADRANGLE_NAME "GLASS MOUNTAIN" *
QUADRANT NW *
WEST_LONGITUDE -118 45 0.000 *
EAST_LONGITUDE -118 41 15.000 *
NORTH_LATITUDE 37 52 30.000 *
SOUTH_LATITUDE 37 48 45.000 *
PRODUCTION_DATE 2001 12 19 *
RASTER_ORDER LEFT_RIGHT/TOP_BOTTOM *
BAND_ORGANIZATION "SINGLE FILE" *
BAND_CONTENT BLACK&WHITE *
BITS_PER_PIXEL 8 *
SAMPLES_AND_LINES 6312 7642 *
HORIZONTAL_DATUM NAD83 *
HORIZONTAL_COORDINATE_SYSTEM UTM *
COORDINATE_ZONE 11 *
HORIZONTAL_UNITS METERS *
HORIZONTAL_RESOLUTION 1.0 *
SECONDARY_HORIZONTAL_DATUM NAD27 *
XY_ORIGIN 345573.271 4193689.469 *
SECONDARY_XY_ORIGIN 345654.463 4193490.285 *
NATION US *
STATE CA *
NW_QUAD_CORNER_XY 346088.295 4193389.469 *
NE_QUAD_CORNER_XY 351585.544 4193288.196 *
SE_QUAD_CORNER_XY 351460.195 4186353.125 *
SW_QUAD_CORNER_XY 345958.300 4186454.341 *
SECONDARY_NW_QUAD_XY 346084.464 4193184.130 *
SECONDARY_NE_QUAD_XY 351581.849 4193082.855 *
SECONDARY_SE_QUAD_XY 351456.503 4186147.935 *
SECONDARY_SW_QUAD_XY 345954.472 4186249.154 *
RMSE_XY 1.52 *
IMAGE_SOURCE "BLACK AND WHITE FILM" *
SOURCE_IMAGE_ID "NAPP 10562 12" *
SOURCE_IMAGE_DATE 1998 9 17 *
SOURCE_IMAGE_ID "NAPP 10562 11" *
SOURCE_IMAGE_DATE 1998 9 17 *
SOURCE_IMAGE_ID "NAPP 10562 13" *
SOURCE_IMAGE_DATE 1998 9 17 *
SOURCE_IMAGE_ID "NAPP 10557 16" *
SOURCE_IMAGE_DATE 1998 8 29 *
SOURCE_IMAGE_ID "NAPP 10557 15" *
SOURCE_IMAGE_DATE 1998 8 29 *
SOURCE_IMAGE_ID "NAPP 10557 14" *
SOURCE_IMAGE_DATE 1998 8 29 *
SOURCE_IMAGE_ID "NAPP 10562 40" *
SOURCE_IMAGE_DATE 1998 9 17 *
SOURCE_IMAGE_ID "NAPP 10562 39" *
SOURCE_IMAGE_DATE 1998 9 17 *
SOURCE_IMAGE_ID "NAPP 10562 38" *
SOURCE_IMAGE_DATE 1998 9 17 *
SOURCE_DEM_DATE 1997 0 0 *
AGENCY "WESTERN MAPPING CENTER (WMC)" *
PRODUCER "USDA FS GEOSPATIAL SERVICE AND TECHNOLOGY CENTER" *
PRODUCTION_SYSTEM "ORBIT OR_RECTIFY V.5.2" *
STANDARD_VERSION 1996 12 *
METADATA_DATE 2001 12 31 *
DATA_FILE_SIZE 48242616 *
BYTE_COUNT 6312 * * * * * * * * * * * * * * * * * * * *
END_USGS_HEADER *
