BEGIN_USGS_DOQ_HEADER *
QUADRANGLE_NAME "GLASS MOUNTAIN" *
QUADRANT SE *
WEST_LONGITUDE -118 41 15.000 *
EAST_LONGITUDE -118 37 30.000 *
NORTH_LATITUDE 37 48 45.000 *
SOUTH_LATITUDE 37 45 0.000 *
PRODUCTION_DATE 2001 12 19 *
RASTER_ORDER LEFT_RIGHT/TOP_BOTTOM *
BAND_ORGANIZATION "SINGLE FILE" *
BAND_CONTENT BLACK&WHITE *
BITS_PER_PIXEL 8 *
SAMPLES_AND_LINES 6312 7639 *
HORIZONTAL_DATUM NAD83 *
HORIZONTAL_COORDINATE_SYSTEM UTM *
COORDINATE_ZONE 11 *
HORIZONTAL_UNITS METERS *
HORIZONTAL_RESOLUTION 1.0 *
SECONDARY_HORIZONTAL_DATUM NAD27 *
XY_ORIGIN 350950.230 4186653.125 *
SECONDARY_XY_ORIGIN 351031.347 4186454.011 *
NATION US *
STATE CA *
NW_QUAD_CORNER_XY 351460.195 4186353.125 *
NE_QUAD_CORNER_XY 356962.047 4186255.592 *
SE_QUAD_CORNER_XY 356841.515 4179320.643 *
SW_QUAD_CORNER_XY 351335.024 4179418.121 *
SECONDARY_NW_QUAD_XY 351456.503 4186147.935 *
SECONDARY_NE_QUAD_XY 356958.491 4186050.400 *
SECONDARY_SE_QUAD_XY 356837.962 4179115.603 *
SECONDARY_SW_QUAD_XY 351331.335 4179213.084 *
RMSE_XY 1.52 *
IMAGE_SOURCE "BLACK AND WHITE FILM" *
SOURCE_IMAGE_ID "NAPP 10562 41" *
SOURCE_IMAGE_DATE 1998 9 17 *
SOURCE_IMAGE_ID "NAPP 10562 42" *
SOURCE_IMAGE_DATE 1998 9 17 *
SOURCE_IMAGE_ID "NAPP 10562 40" *
SOURCE_IMAGE_DATE 1998 9 17 *
SOURCE_IMAGE_ID "NAPP 10562 9" *
SOURCE_IMAGE_DATE 1998 9 17 *
SOURCE_IMAGE_ID "NAPP 10562 10" *
SOURCE_IMAGE_DATE 1998 9 17 *
SOURCE_IMAGE_ID "NAPP 10562 11" *
SOURCE_IMAGE_DATE 1998 9 17 *
SOURCE_IMAGE_ID "NAPP 10562 67" *
SOURCE_IMAGE_DATE 1998 9 17 *
SOURCE_IMAGE_ID "NAPP 10562 68" *
SOURCE_IMAGE_DATE 1998 9 17 *
SOURCE_IMAGE_ID "NAPP 10562 69" *
SOURCE_IMAGE_DATE 1998 9 17 *
SOURCE_DEM_DATE 1997 0 0 *
AGENCY "WESTERN MAPPING CENTER (WMC)" *
PRODUCER "USDA FS GEOSPATIAL SERVICE AND TECHNOLOGY CENTER" *
PRODUCTION_SYSTEM "ORBIT OR_RECTIFY V.5.2" *
STANDARD_VERSION 1996 12 *
METADATA_DATE 2001 12 31 *
DATA_FILE_SIZE 48223680 *
BYTE_COUNT 6312 * * * * * * * * * * * * * * * * * * * *
END_USGS_HEADER *
