BEGIN_USGS_DOQ_HEADER *
QUADRANGLE_NAME "DEXTER CANYON" *
QUADRANT SE *
WEST_LONGITUDE -118 48 45.000 *
EAST_LONGITUDE -118 45 0.000 *
NORTH_LATITUDE 37 48 45.000 *
SOUTH_LATITUDE 37 45 0.000 *
PRODUCTION_DATE 2001 12 19 *
RASTER_ORDER LEFT_RIGHT/TOP_BOTTOM *
BAND_ORGANIZATION "SINGLE FILE" *
BAND_CONTENT BLACK&WHITE *
BITS_PER_PIXEL 8 *
SAMPLES_AND_LINES 6322 7646 *
HORIZONTAL_DATUM NAD83 *
HORIZONTAL_COORDINATE_SYSTEM UTM *
COORDINATE_ZONE 11 *
HORIZONTAL_UNITS METERS *
HORIZONTAL_RESOLUTION 1.0 *
SECONDARY_HORIZONTAL_DATUM NAD27 *
XY_ORIGIN 339936.558 4186859.242 *
SECONDARY_XY_ORIGIN 340017.929 4186660.078 *
NATION US *
STATE CA *
NW_QUAD_CORNER_XY 340456.359 4186559.242 *
NE_QUAD_CORNER_XY 345958.300 4186454.341 *
SE_QUAD_CORNER_XY 345828.488 4179519.281 *
SW_QUAD_CORNER_XY 340321.907 4179624.121 *
SECONDARY_NW_QUAD_XY 340452.393 4186354.056 *
SECONDARY_NE_QUAD_XY 345954.472 4186249.154 *
SECONDARY_SE_QUAD_XY 345824.663 4179314.245 *
SECONDARY_SW_QUAD_XY 340317.945 4179419.088 *
RMSE_XY 1.80 *
IMAGE_SOURCE "BLACK AND WHITE FILM" *
SOURCE_IMAGE_ID "NAPP 10557 17" *
SOURCE_IMAGE_DATE 1998 8 29 *
SOURCE_IMAGE_ID "NAPP 10557 18" *
SOURCE_IMAGE_DATE 1998 8 29 *
SOURCE_IMAGE_ID "NAPP 10557 16" *
SOURCE_IMAGE_DATE 1998 8 29 *
SOURCE_IMAGE_ID "NAPP 10556 239" *
SOURCE_IMAGE_DATE 1998 8 26 *
SOURCE_IMAGE_ID "NAPP 10556 238" *
SOURCE_IMAGE_DATE 1998 8 26 *
SOURCE_IMAGE_ID "NAPP 10556 237" *
SOURCE_IMAGE_DATE 1998 8 26 *
SOURCE_IMAGE_ID "NAPP 10562 9" *
SOURCE_IMAGE_DATE 1998 9 17 *
SOURCE_IMAGE_ID "NAPP 10562 10" *
SOURCE_IMAGE_DATE 1998 9 17 *
SOURCE_IMAGE_ID "NAPP 10562 11" *
SOURCE_IMAGE_DATE 1998 9 17 *
SOURCE_DEM_DATE 2000 0 0 *
AGENCY "WESTERN MAPPING CENTER (WMC)" *
PRODUCER "USDA FS GEOSPATIAL SERVICE AND TECHNOLOGY CENTER" *
PRODUCTION_SYSTEM "ORBIT OR_RECTIFY V.5.2" *
STANDARD_VERSION 1996 12 *
METADATA_DATE 2001 12 31 *
DATA_FILE_SIZE 48344334 *
BYTE_COUNT 6322 * * * * * * * * * * * * * * * * * * * * *
END_USGS_HEADER *
