BEGIN_USGS_DOQ_HEADER *
QUADRANGLE_NAME "CRESTVIEW" 3.45 or 7.5-min. name*
QUADRANT SE quadrant indicator if cell size = 3.75-minutes*
WEST_LONGITUDE -118 56 15.000 signed deg min sec SDDD MM SS.SSS*
EAST_LONGITUDE -118 52 30.000 signed deg min sec SDDD MM SS.SSS*
NORTH_LATITUDE 37 48 45.000 signed deg min sec SDDD MM SS.SSS*
SOUTH_LATITUDE 37 45 0.000 signed deg min sec SDDD MM SS.SSS*
PRODUCTION_DATE 1998 4 28 yyyy mm dd*
RASTER_ORDER LEFT_RIGHT/TOP_BOTTOM video display order*
BAND_ORGANIZATION "SINGLE FILE" single file or BSQ, or BIL or BIP*
BAND_CONTENT BLACK&WHITE black&white or red green blue*
BITS_PER_PIXEL 8 radiometric resolution*
SAMPLES_AND_LINES 6335 7657 number of columns and rows*
HORIZONTAL_DATUM NAD83 primary horizontal datum*
HORIZONTAL_COORDINATE_SYSTEM UTM *
COORDINATE_ZONE 11 coordinate system zone number*
HORIZONTAL_UNITS METERS coordinate system units*
HORIZONTAL_RESOLUTION 1.00 pixel horiz. ground sample distance*
SECONDARY_HORIZONTAL_DATUM NAD27 secondary horizontal datum*
XY_ORIGIN 328921.000 4187081.000 coord. of upper left pixel pri. datum*
SECONDARY_XY_ORIGIN 329002.686 4186881.758 coord upper left pixel sec datum*
NATION US nation code*
STATE CA state fip code*
NW_QUAD_CORNER_XY 329452.332 4186780.095 XY coords. of pri. NW quad corner*
NE_QUAD_CORNER_XY 334954.370 4186667.826 XY coords. of pri. NE quad corner*
SE_QUAD_CORNER_XY 334815.277 4179732.644 XY coords. of pri. SE quad corner*
SW_QUAD_CORNER_XY 329308.598 4179844.850 XY coords. of pri. SW quad corner*
SECONDARY_NW_QUAD_XY 329448.088 4186574.915 XY coords. - sec. NW quad cor.*
SECONDARY_NE_QUAD_XY 334950.263 4186462.643 XY coords. - sec. NE quad cor.*
SECONDARY_SE_QUAD_XY 334811.174 4179527.614 XY coords. - sec. SE quad cor.*
SECONDARY_SW_QUAD_XY 329304.357 4179639.822 XY coords. - sec. SW quad cor.*
RMSE_XY 4.10 doq horiz. accuracy*
IMAGE_SOURCE "BLACK AND WHITE FILM" b&w, cir, natural color, other*
SOURCE_IMAGE_ID "NAPP 6309 183" source image id*
SOURCE_IMAGE_DATE 1993 09 25 source image date as yyyy mm dd*
SOURCE_DEM_DATE 1997 01 01 source dem date yyyy mm dd*
AGENCY "WESTERN MAPPING CENTER (WMC)" oversight agency*
PRODUCER "SCIENCE APPLICATIONS INTERNATIONAL" producer/contractor*
PRODUCTION_SYSTEM "GIS/MAGIC" production system*
STANDARD_VERSION 1996 12 version of DOQ standard*
METADATA_DATE 1998 06 16 date created or changed, yyyy mm dd*
DATA_FILE_SIZE 48513430 data set size in bytes*
BYTE_COUNT 6335 header byte count* * * * * * * * * * * * * * * * * * * * * * * * * * * * * * * * * * * * *
END_USGS_HEADER *
