BEGIN_USGS_DOQ_HEADER *
QUADRANGLE_NAME "VOLCANIC HILLS WEST" *
QUADRANT SE *
WEST_LONGITUDE -118 11 15.000 *
EAST_LONGITUDE -118 7 30.000 *
NORTH_LATITUDE 37 56 15.000 *
SOUTH_LATITUDE 37 52 30.000 *
PRODUCTION_DATE 2001 12 3 *
RASTER_ORDER LEFT_RIGHT/TOP_BOTTOM *
BAND_ORGANIZATION "SINGLE FILE" *
BAND_CONTENT BLACK&WHITE *
BITS_PER_PIXEL 8 *
SAMPLES_AND_LINES 6264 7610 *
HORIZONTAL_DATUM NAD83 *
HORIZONTAL_COORDINATE_SYSTEM UTM *
COORDINATE_ZONE 11 *
HORIZONTAL_UNITS METERS *
HORIZONTAL_RESOLUTION 1.0 *
SECONDARY_HORIZONTAL_DATUM NAD27 *
XY_ORIGIN 395178.748 4199845.430 *
SECONDARY_XY_ORIGIN 395259.506 4199646.603 *
NATION US *
STATE NV *
NW_QUAD_CORNER_XY 395650.408 4199545.430 *
NE_QUAD_CORNER_XY 401142.671 4199477.278 *
SE_QUAD_CORNER_XY 401059.005 4192542.553 *
SW_QUAD_CORNER_XY 395562.093 4192610.667 *
SECONDARY_NW_QUAD_XY 395647.807 4199339.920 *
SECONDARY_NE_QUAD_XY 401140.207 4199271.767 *
SECONDARY_SE_QUAD_XY 401056.544 4192337.193 *
SECONDARY_SW_QUAD_XY 395559.494 4192405.308 *
RMSE_XY 2.44 *
IMAGE_SOURCE "BLACK AND WHITE FILM" *
SOURCE_IMAGE_ID "NAPP 10563 89" *
SOURCE_IMAGE_DATE 1998 9 17 *
SOURCE_IMAGE_ID "NAPP 10563 88" *
SOURCE_IMAGE_DATE 1998 9 17 *
SOURCE_IMAGE_ID "NAPP 10563 90" *
SOURCE_IMAGE_DATE 1998 9 17 *
SOURCE_IMAGE_ID "NAPP 10563 105" *
SOURCE_IMAGE_DATE 1998 9 17 *
SOURCE_IMAGE_ID "NAPP 10563 104" *
SOURCE_IMAGE_DATE 1998 9 17 *
SOURCE_IMAGE_ID "NAPP 10563 103" *
SOURCE_IMAGE_DATE 1998 9 17 *
SOURCE_IMAGE_ID "NAPP 11554 51" *
SOURCE_IMAGE_DATE 1999 9 12 *
SOURCE_DEM_DATE 2000 0 0 *
AGENCY "WESTERN MAPPING CENTER (WMC)" *
PRODUCER "USDA FS GEOSPATIAL SERVICE AND TECHNOLOGY CENTER" *
PRODUCTION_SYSTEM "ORBIT OR_RECTIFY V.5.2" *
STANDARD_VERSION 1996 12 *
METADATA_DATE 2001 12 31 *
DATA_FILE_SIZE 47675304 *
BYTE_COUNT 6264 * * * * * * * * * * * * * * * * * * * * * * * *
END_USGS_HEADER *
