BEGIN_USGS_DOQ_HEADER *
QUADRANGLE_NAME "MOUNT MONTGOMERY" *
QUADRANT NE *
WEST_LONGITUDE -118 18 45.000 *
EAST_LONGITUDE -118 15 0.000 *
NORTH_LATITUDE 38 0 0.000 *
SOUTH_LATITUDE 37 56 15.000 *
PRODUCTION_DATE 2001 12 3 *
RASTER_ORDER LEFT_RIGHT/TOP_BOTTOM *
BAND_ORGANIZATION "SINGLE FILE" *
BAND_CONTENT BLACK&WHITE *
BITS_PER_PIXEL 8 *
SAMPLES_AND_LINES 6269 7617 *
HORIZONTAL_DATUM NAD83 *
HORIZONTAL_COORDINATE_SYSTEM UTM *
COORDINATE_ZONE 11 *
HORIZONTAL_UNITS METERS *
HORIZONTAL_RESOLUTION 1.0 *
SECONDARY_HORIZONTAL_DATUM NAD27 *
XY_ORIGIN 384282.023 4206927.703 *
SECONDARY_XY_ORIGIN 384362.941 4206728.596 *
NATION US *
STATE NV *
NW_QUAD_CORNER_XY 384763.543 4206627.703 *
NE_QUAD_CORNER_XY 390251.212 4206552.140 *
SE_QUAD_CORNER_XY 390158.115 4199617.266 *
SW_QUAD_CORNER_XY 384665.790 4199692.789 *
SECONDARY_NW_QUAD_XY 384760.665 4206422.047 *
SECONDARY_NE_QUAD_XY 390248.471 4206346.481 *
SECONDARY_SE_QUAD_XY 390155.376 4199411.758 *
SECONDARY_SW_QUAD_XY 384662.914 4199487.282 *
RMSE_XY 2.44 *
IMAGE_SOURCE "BLACK AND WHITE FILM" *
SOURCE_IMAGE_ID "NAPP 10563 56" *
SOURCE_IMAGE_DATE 1998 9 17 *
SOURCE_IMAGE_ID "NAPP 10563 57" *
SOURCE_IMAGE_DATE 1998 9 17 *
SOURCE_IMAGE_ID "NAPP 10563 55" *
SOURCE_IMAGE_DATE 1998 9 17 *
SOURCE_IMAGE_ID "NAPP 10567 225" *
SOURCE_IMAGE_DATE 1999 8 1 *
SOURCE_IMAGE_ID "NAPP 10567 224" *
SOURCE_IMAGE_DATE 1999 8 1 *
SOURCE_IMAGE_ID "NAPP 10567 223" *
SOURCE_IMAGE_DATE 1999 8 1 *
SOURCE_IMAGE_ID "NAPP 10563 103" *
SOURCE_IMAGE_DATE 1998 9 17 *
SOURCE_IMAGE_ID "NAPP 10563 102" *
SOURCE_IMAGE_DATE 1998 9 17 *
SOURCE_IMAGE_ID "NAPP 10563 101" *
SOURCE_IMAGE_DATE 1998 9 17 *
SOURCE_DEM_DATE 2000 0 0 *
AGENCY "WESTERN MAPPING CENTER (WMC)" *
PRODUCER "USDA FS GEOSPATIAL SERVICE AND TECHNOLOGY CENTER" *
PRODUCTION_SYSTEM "ORBIT OR_RECTIFY V.5.2" *
STANDARD_VERSION 1996 12 *
METADATA_DATE 2001 12 31 *
DATA_FILE_SIZE 47757242 *
BYTE_COUNT 6269 * * * * * * * * * * * * * * * * * * * *
END_USGS_HEADER *
