BEGIN_USGS_DOQ_HEADER *
QUADRANGLE_NAME "RIVER SPRING" 3.45 or 7.5-min. name*
QUADRANT NW quadrant indicator if cell size = 3.75-minutes*
WEST_LONGITUDE -118 37 30.000 signed deg min sec SDDD MM SS.SSS*
EAST_LONGITUDE -118 33 45.000 signed deg min sec SDDD MM SS.SSS*
NORTH_LATITUDE 38 0 0.000 signed deg min sec SDDD MM SS.SSS*
SOUTH_LATITUDE 37 56 15.000 signed deg min sec SDDD MM SS.SSS*
PRODUCTION_DATE 1998 5 5 yyyy mm dd*
RASTER_ORDER LEFT_RIGHT/TOP_BOTTOM video display order*
BAND_ORGANIZATION "SINGLE FILE" single file or BSQ, or BIL or BIP*
BAND_CONTENT BLACK&WHITE black&white or red green blue*
BITS_PER_PIXEL 8 radiometric resolution*
SAMPLES_AND_LINES 6297 7638 number of columns and rows*
HORIZONTAL_DATUM NAD83 primary horizontal datum*
HORIZONTAL_COORDINATE_SYSTEM UTM *
COORDINATE_ZONE 11 coordinate system zone number*
HORIZONTAL_UNITS METERS coordinate system units*
HORIZONTAL_RESOLUTION 1.00 pixel horiz. ground sample distance*
SECONDARY_HORIZONTAL_DATUM NAD27 secondary horizontal datum*
XY_ORIGIN 356817.000 4207361.000 coord. of upper left pixel pri. datum*
SECONDARY_XY_ORIGIN 356898.117 4207161.666 coord upper left pixel sec datum*
NATION US nation code*
STATE CA state fip code*
STATE NV state fip code*
NW_QUAD_CORNER_XY 357324.667 4207060.846 XY coords. of pri. NW quad corner*
NE_QUAD_CORNER_XY 362812.519 4206966.840 XY coords. of pri. NE quad corner*
SE_QUAD_CORNER_XY 362696.133 4200031.739 XY coords. of pri. SE quad corner*
SW_QUAD_CORNER_XY 357203.623 4200125.693 XY coords. of pri. SW quad corner*
SECONDARY_NW_QUAD_XY 357321.100 4206855.201 XY coords. - sec. NW quad cor.*
SECONDARY_NE_QUAD_XY 362809.089 4206761.193 XY coords. - sec. NE quad cor.*
SECONDARY_SE_QUAD_XY 362692.707 4199826.242 XY coords. - sec. SE quad cor.*
SECONDARY_SW_QUAD_XY 357200.059 4199920.198 XY coords. - sec. SW quad cor.*
RMSE_XY 2.00 doq horiz. accuracy*
IMAGE_SOURCE "BLACK AND WHITE FILM" b&w, cir, natural color, other*
SOURCE_IMAGE_ID "NAPP 6307 158" source image id*
SOURCE_IMAGE_DATE 1993 07 19 source image date as yyyy mm dd*
IMAGE_SOURCE "BLACK AND WHITE FILM" b&w, cir, natural color, other*
SOURCE_IMAGE_ID "NAPP 6307 159" source image id*
SOURCE_IMAGE_DATE 1993 07 19 source image date as yyyy mm dd*
SOURCE_DEM_DATE 1997 01 01 source dem date yyyy mm dd*
AGENCY "WESTERN MAPPING CENTER (WMC)" oversight agency*
PRODUCER "SCIENCE APPLICATIONS INTERNATIONAL" producer/contractor*
PRODUCTION_SYSTEM "GIS/MAGIC" production system*
STANDARD_VERSION 1996 12 version of DOQ standard*
METADATA_DATE 1998 06 16 date created or changed, yyyy mm dd*
DATA_FILE_SIZE 48102783 data set size in bytes*
BYTE_COUNT 6297 header byte count* * * * * * * * * * * * * * * * * * * * * * * * * * * * * * * *
END_USGS_HEADER *
