BEGIN_USGS_DOQ_HEADER *
QUADRANGLE_NAME "INDIAN MEADOWS" 3.45 or 7.5-min. name*
QUADRANT SW quadrant indicator if cell size = 3.75-minutes*
WEST_LONGITUDE -118 45 0.000 signed deg min sec SDDD MM SS.SSS*
EAST_LONGITUDE -118 41 15.000 signed deg min sec SDDD MM SS.SSS*
NORTH_LATITUDE 37 56 15.000 signed deg min sec SDDD MM SS.SSS*
SOUTH_LATITUDE 37 52 30.000 signed deg min sec SDDD MM SS.SSS*
PRODUCTION_DATE 1998 5 5 yyyy mm dd*
RASTER_ORDER LEFT_RIGHT/TOP_BOTTOM video display order*
BAND_ORGANIZATION "SINGLE FILE" single file or BSQ, or BIL or BIP*
BAND_CONTENT BLACK&WHITE black&white or red green blue*
BITS_PER_PIXEL 8 radiometric resolution*
SAMPLES_AND_LINES 6311 7645 number of columns and rows*
HORIZONTAL_DATUM NAD83 primary horizontal datum*
HORIZONTAL_COORDINATE_SYSTEM UTM *
COORDINATE_ZONE 11 coordinate system zone number*
HORIZONTAL_UNITS METERS coordinate system units*
HORIZONTAL_RESOLUTION 1.00 pixel horiz. ground sample distance*
SECONDARY_HORIZONTAL_DATUM NAD27 secondary horizontal datum*
XY_ORIGIN 345702.000 4200625.000 coord. of upper left pixel pri. datum*
SECONDARY_XY_ORIGIN 345783.167 4200425.756 coord upper left pixel sec datum*
NATION US nation code*
STATE CA state fip code*
NW_QUAD_CORNER_XY 346218.474 4200324.664 XY coords. of pri. NW quad corner*
NE_QUAD_CORNER_XY 351711.070 4200223.335 XY coords. of pri. NE quad corner*
SE_QUAD_CORNER_XY 351585.544 4193288.196 XY coords. of pri. SE quad corner*
SW_QUAD_CORNER_XY 346088.295 4193389.469 XY coords. of pri. SW quad corner*
SECONDARY_NW_QUAD_XY 346214.636 4200119.174 XY coords. - sec. NW quad cor.*
SECONDARY_NE_QUAD_XY 351707.369 4200017.842 XY coords. - sec. NE quad cor.*
SECONDARY_SE_QUAD_XY 351581.846 4193082.854 XY coords. - sec. SE quad cor.*
SECONDARY_SW_QUAD_XY 346084.460 4193184.130 XY coords. - sec. SW quad cor.*
RMSE_XY 1.50 doq horiz. accuracy*
IMAGE_SOURCE "BLACK AND WHITE FILM" b&w, cir, natural color, other*
SOURCE_IMAGE_ID "NAPP 6309 217" source image id*
SOURCE_IMAGE_DATE 1993 09 25 source image date as yyyy mm dd*
IMAGE_SOURCE "BLACK AND WHITE FILM" b&w, cir, natural color, other*
SOURCE_IMAGE_ID "NAPP 6310 012" source image id*
SOURCE_IMAGE_DATE 1993 09 25 source image date as yyyy mm dd*
IMAGE_SOURCE "BLACK AND WHITE FILM" b&w, cir, natural color, other*
SOURCE_IMAGE_ID "NAPP 6309 216" source image id*
SOURCE_IMAGE_DATE 1993 09 25 source image date as yyyy mm dd*
IMAGE_SOURCE "BLACK AND WHITE FILM" b&w, cir, natural color, other*
SOURCE_IMAGE_ID "NAPP 6309 187" source image id*
SOURCE_IMAGE_DATE 1993 09 25 source image date as yyyy mm dd*
SOURCE_DEM_DATE 1997 01 01 source dem date yyyy mm dd*
AGENCY "WESTERN MAPPING CENTER (WMC)" oversight agency*
PRODUCER "SCIENCE APPLICATIONS INTERNATIONAL" producer/contractor*
PRODUCTION_SYSTEM "GIS/MAGIC" production system*
STANDARD_VERSION 1996 12 version of DOQ standard*
METADATA_DATE 1998 06 16 date created or changed, yyyy mm dd*
DATA_FILE_SIZE 48253906 data set size in bytes*
BYTE_COUNT 6311 header byte count* * * * * * * * * * * * * * * * * * * * * * * * * * *
END_USGS_HEADER *
