BEGIN_USGS_DOQ_HEADER *
QUADRANGLE_NAME "MONO MILLS" *
QUADRANT NE *
WEST_LONGITUDE -118 56 15.000 *
EAST_LONGITUDE -118 52 30.000 *
NORTH_LATITUDE 38 0 0.000 *
SOUTH_LATITUDE 37 56 15.000 *
PRODUCTION_DATE 2001 12 3 *
RASTER_ORDER LEFT_RIGHT/TOP_BOTTOM *
BAND_ORGANIZATION "SINGLE FILE" *
BAND_CONTENT BLACK&WHITE *
BITS_PER_PIXEL 8 *
SAMPLES_AND_LINES 6318 7654 *
HORIZONTAL_DATUM NAD83 *
HORIZONTAL_COORDINATE_SYSTEM UTM *
COORDINATE_ZONE 11 *
HORIZONTAL_UNITS METERS *
HORIZONTAL_RESOLUTION 1.0 *
SECONDARY_HORIZONTAL_DATUM NAD27 *
XY_ORIGIN 329354.571 4207886.221 *
SECONDARY_XY_ORIGIN 329436.129 4207687.066 *
NATION US *
STATE CA *
NW_QUAD_CORNER_XY 329884.754 4207586.221 *
NE_QUAD_CORNER_XY 335372.829 4207473.765 *
SE_QUAD_CORNER_XY 335233.146 4200538.386 *
SW_QUAD_CORNER_XY 329740.410 4200650.780 *
SECONDARY_NW_QUAD_XY 329880.505 4207380.590 *
SECONDARY_NE_QUAD_XY 335368.717 4207268.132 *
SECONDARY_SE_QUAD_XY 335229.037 4200332.902 *
SECONDARY_SW_QUAD_XY 329736.164 4200445.299 *
RMSE_XY 1.09 *
IMAGE_SOURCE "BLACK AND WHITE FILM" *
SOURCE_IMAGE_ID "NAPP 10556 186" *
SOURCE_IMAGE_DATE 1998 8 26 *
SOURCE_IMAGE_ID "NAPP 10556 187" *
SOURCE_IMAGE_DATE 1998 8 26 *
SOURCE_IMAGE_ID "NAPP 10556 185" *
SOURCE_IMAGE_DATE 1998 8 26 *
SOURCE_IMAGE_ID "NAPP 10556 208" *
SOURCE_IMAGE_DATE 1998 8 26 *
SOURCE_IMAGE_ID "NAPP 10556 209" *
SOURCE_IMAGE_DATE 1998 8 26 *
SOURCE_IMAGE_ID "NAPP 10556 210" *
SOURCE_IMAGE_DATE 1998 8 26 *
SOURCE_IMAGE_ID "NAPP 10556 233" *
SOURCE_IMAGE_DATE 1998 8 26 *
SOURCE_IMAGE_ID "NAPP 10556 232" *
SOURCE_IMAGE_DATE 1998 8 26 *
SOURCE_IMAGE_ID "NAPP 10556 231" *
SOURCE_IMAGE_DATE 1998 8 26 *
SOURCE_DEM_DATE 2000 0 0 *
AGENCY "WESTERN MAPPING CENTER (WMC)" *
PRODUCER "USDA FS GEOSPATIAL SERVICE AND TECHNOLOGY CENTER" *
PRODUCTION_SYSTEM "ORBIT OR_RECTIFY V.5.2" *
STANDARD_VERSION 1996 12 *
METADATA_DATE 2002 1 2 *
DATA_FILE_SIZE 48364290 *
BYTE_COUNT 6318 * * * * * * * * * * * * * * * * * * * *
END_USGS_HEADER *
