BEGIN_USGS_DOQ_HEADER *
QUADRANGLE_NAME "NELSON MOUNTAIN" *
QUADRANT NW *
WEST_LONGITUDE -119 7 30.000 *
EAST_LONGITUDE -119 3 45.000 *
NORTH_LATITUDE 37 7 30.000 *
SOUTH_LATITUDE 37 3 45.000 *
PRODUCTION_DATE 2001 10 19 *
RASTER_ORDER LEFT_RIGHT/TOP_BOTTOM *
BAND_ORGANIZATION "SINGLE FILE" *
BAND_CONTENT BLACK&WHITE *
BITS_PER_PIXEL 8 *
SAMPLES_AND_LINES 6389 7657 *
HORIZONTAL_DATUM NAD83 *
HORIZONTAL_COORDINATE_SYSTEM UTM *
COORDINATE_ZONE 11 *
HORIZONTAL_UNITS METERS *
HORIZONTAL_RESOLUTION 1.0 *
SECONDARY_HORIZONTAL_DATUM NAD27 *
XY_ORIGIN 310686.074 4111150.588 *
SECONDARY_XY_ORIGIN 310766.131 4110951.250 *
NATION US *
STATE CA *
NW_QUAD_CORNER_XY 311223.958 4110852.588 *
NE_QUAD_CORNER_XY 316776.861 4110730.060 *
SE_QUAD_CORNER_XY 316626.238 4103795.387 *
SW_QUAD_CORNER_XY 311068.764 4103917.839 *
SECONDARY_NW_QUAD_XY 311219.345 4110649.136 *
SECONDARY_NE_QUAD_XY 316772.384 4110526.605 *
SECONDARY_SE_QUAD_XY 316621.765 4103592.093 *
SECONDARY_SW_QUAD_XY 311064.156 4103714.548 *
RMSE_XY 2.35 *
IMAGE_SOURCE "BLACK AND WHITE FILM" *
SOURCE_IMAGE_ID "NAPP 10556 131" *
SOURCE_IMAGE_DATE 1998 8 26 *
SOURCE_IMAGE_ID "NAPP 10556 130" *
SOURCE_IMAGE_DATE 1998 8 26 *
SOURCE_IMAGE_ID "NAPP 10556 132" *
SOURCE_IMAGE_DATE 1998 8 26 *
SOURCE_IMAGE_ID "NAPP 10559 11" *
SOURCE_IMAGE_DATE 1998 9 12 *
SOURCE_IMAGE_ID "NAPP 10559 10" *
SOURCE_IMAGE_DATE 1998 9 12 *
SOURCE_IMAGE_ID "NAPP 10559 9" *
SOURCE_IMAGE_DATE 1998 9 12 *
SOURCE_IMAGE_ID "NAPP 10556 117" *
SOURCE_IMAGE_DATE 1998 8 26 *
SOURCE_IMAGE_ID "NAPP 10556 116" *
SOURCE_IMAGE_DATE 1998 8 26 *
SOURCE_IMAGE_ID "NAPP 10556 115" *
SOURCE_IMAGE_DATE 1998 8 26 *
SOURCE_DEM_DATE 2000 0 0 *
AGENCY "WESTERN MAPPING CENTER (WMC)" *
PRODUCER "USDA FS GEOSPATIAL SERVICE AND TECHNOLOGY CENTER" *
PRODUCTION_SYSTEM "ORBIT OR_RECTIFY V.5.2" *
STANDARD_VERSION 1996 12 *
METADATA_DATE 2001 10 23 *
DATA_FILE_SIZE 48926962 *
BYTE_COUNT 6389 * * * * * * * * * * * * * * * * * * * * *
END_USGS_HEADER *
