BEGIN_USGS_DOQ_HEADER *
QUADRANGLE_NAME "SHAVER LAKE" *
QUADRANT NE *
WEST_LONGITUDE -119 18 45.000 *
EAST_LONGITUDE -119 15 0.000 *
NORTH_LATITUDE 37 7 30.000 *
SOUTH_LATITUDE 37 3 45.000 *
PRODUCTION_DATE 2001 10 19 *
RASTER_ORDER LEFT_RIGHT/TOP_BOTTOM *
BAND_ORGANIZATION "SINGLE FILE" *
BAND_CONTENT BLACK&WHITE *
BITS_PER_PIXEL 8 *
SAMPLES_AND_LINES 6403 7668 *
HORIZONTAL_DATUM NAD83 *
HORIZONTAL_COORDINATE_SYSTEM UTM *
COORDINATE_ZONE 11 *
HORIZONTAL_UNITS METERS *
HORIZONTAL_RESOLUTION 1.0 *
SECONDARY_HORIZONTAL_DATUM NAD27 *
XY_ORIGIN 294012.575 4111540.148 *
SECONDARY_XY_ORIGIN 294092.915 4111340.492 *
NATION US *
STATE CA *
NW_QUAD_CORNER_XY 294564.872 4111242.148 *
NE_QUAD_CORNER_XY 300117.965 4111108.631 *
SE_QUAD_CORNER_XY 299953.630 4104173.723 *
SW_QUAD_CORNER_XY 294395.965 4104307.157 *
SECONDARY_NW_QUAD_XY 294559.852 4111038.705 *
SECONDARY_NE_QUAD_XY 300113.081 4110905.186 *
SECONDARY_SE_QUAD_XY 299948.750 4103970.439 *
SECONDARY_SW_QUAD_XY 294390.949 4104103.876 *
RMSE_XY 2.35 *
IMAGE_SOURCE "BLACK AND WHITE FILM" *
SOURCE_IMAGE_ID "NAPP 10566 60" *
SOURCE_IMAGE_DATE 1999 7 30 *
SOURCE_IMAGE_ID "NAPP 10566 61" *
SOURCE_IMAGE_DATE 1999 7 30 *
SOURCE_IMAGE_ID "NAPP 10566 59" *
SOURCE_IMAGE_DATE 1999 7 30 *
SOURCE_IMAGE_ID "NAPP 10566 48" *
SOURCE_IMAGE_DATE 1999 7 30 *
SOURCE_IMAGE_ID "NAPP 10566 49" *
SOURCE_IMAGE_DATE 1999 7 30 *
SOURCE_IMAGE_ID "NAPP 10566 50" *
SOURCE_IMAGE_DATE 1999 7 30 *
SOURCE_IMAGE_ID "NAPP 10567 83" *
SOURCE_IMAGE_DATE 1999 8 1 *
SOURCE_IMAGE_ID "NAPP 10567 84" *
SOURCE_IMAGE_DATE 1999 8 1 *
SOURCE_IMAGE_ID "NAPP 10567 85" *
SOURCE_IMAGE_DATE 1999 8 1 *
SOURCE_DEM_DATE 2000 0 0 *
AGENCY "WESTERN MAPPING CENTER (WMC)" *
PRODUCER "USDA FS GEOSPATIAL SERVICE AND TECHNOLOGY CENTER" *
PRODUCTION_SYSTEM "ORBIT OR_RECTIFY V.5.2" *
STANDARD_VERSION 1996 12 *
METADATA_DATE 2001 10 23 *
DATA_FILE_SIZE 49104607 *
BYTE_COUNT 6403 * * * * * * * * * * * * * * * * * * * * * *
END_USGS_HEADER *
