BEGIN_USGS_DOQ_HEADER *
QUADRANGLE_NAME "AUBERRY" 3.45 or 7.5-min. name*
QUADRANT SE quadrant indicator if cell size = 3.75-minutes*
WEST_LONGITUDE -119 26 15.000 signed deg min sec SDDD MM SS.SSS*
EAST_LONGITUDE -119 22 30.000 signed deg min sec SDDD MM SS.SSS*
NORTH_LATITUDE 37 3 45.000 signed deg min sec SDDD MM SS.SSS*
SOUTH_LATITUDE 37 0 0.000 signed deg min sec SDDD MM SS.SSS*
PRODUCTION_DATE 1997 4 14 yyyy mm dd*
RASTER_ORDER LEFT_RIGHT/TOP_BOTTOM video display order*
BAND_ORGANIZATION "SINGLE FILE" single file or BSQ, or BIL or BIP*
BAND_CONTENT BLACK&WHITE black&white or red green blue*
BITS_PER_PIXEL 8 radiometric resolution*
SAMPLES_AND_LINES 6425 7683 number of columns and rows*
HORIZONTAL_DATUM NAD83 primary horizontal datum*
HORIZONTAL_COORDINATE_SYSTEM UTM *
COORDINATE_ZONE 11 coordinate system zone number*
HORIZONTAL_UNITS METERS coordinate system units*
HORIZONTAL_RESOLUTION 1.00 pixel horiz. ground sample distance*
SECONDARY_HORIZONTAL_DATUM NAD27 secondary horizontal datum*
XY_ORIGIN 282715.000 4104886.000 coord. of upper left pixel pri. datum*
SECONDARY_XY_ORIGIN 282795.637 4104686.188 coord upper left pixel sec datum*
NATION US nation code*
STATE CA state fip code*
NW_QUAD_CORNER_XY 283280.431 4104585.009 XY coords. of pri. NW quad corner*
NE_QUAD_CORNER_XY 288838.232 4104444.252 XY coords. of pri. NE quad corner*
SE_QUAD_CORNER_XY 288665.005 4097509.237 XY coords. of pri. SE quad corner*
SW_QUAD_CORNER_XY 283102.637 4097649.906 XY coords. of pri. SW quad corner*
SECONDARY_NW_QUAD_XY 283275.140 4104381.735 XY coords. - sec. NW quad cor.*
SECONDARY_NE_QUAD_XY 288833.077 4104240.975 XY coords. - sec. NE quad cor.*
SECONDARY_SE_QUAD_XY 288659.854 4097306.122 XY coords. - sec. SE quad cor.*
SECONDARY_SW_QUAD_XY 283097.350 4097446.794 XY coords. - sec. SW quad cor.*
RMSE_XY 3.00 doq horiz. accuracy*
IMAGE_SOURCE "BLACK AND WHITE FILM" b&w, cir, natural color, other*
SOURCE_IMAGE_ID "NAPP 6296 137" source image id*
SOURCE_IMAGE_DATE 1993 5 29 source image date as yyyy mm dd*
IMAGE_SOURCE "BLACK AND WHITE FILM" b&w, cir, natural color, other*
SOURCE_IMAGE_ID "NAPP 6296 122" source image id*
SOURCE_IMAGE_DATE 1993 5 29 source image date as yyyy mm dd*
IMAGE_SOURCE "BLACK AND WHITE FILM" b&w, cir, natural color, other*
SOURCE_IMAGE_ID "NAPP 6308 12" source image id*
SOURCE_IMAGE_DATE 1993 5 29 source image date as yyyy mm dd*
SOURCE_DEM_DATE 1997 4 14 source dem date yyyy mm dd*
AGENCY "WESTERN MAPPING CENTER (WMC)" oversight agency*
PRODUCER "Science Applications International" producer/contractor*
PRODUCTION_SYSTEM "GIS/MAGIC" production system*
STANDARD_VERSION 1996 12 version of DOQ standard*
METADATA_DATE 1997 10 28 date created or changed, yyyy mm dd*
DATA_FILE_SIZE 49369700 data set size in bytes*
BYTE_COUNT 6425 header byte count* * * * * * * * * * * * * * * * * * * * * * * * * * * * * * * *
END_USGS_HEADER *
