BEGIN_USGS_DOQ_HEADER *
QUADRANGLE_NAME "AUBERRY" 3.45 or 7.5-min. name*
QUADRANT SW quadrant indicator if cell size = 3.75-minutes*
WEST_LONGITUDE -119 30 0.000 signed deg min sec SDDD MM SS.SSS*
EAST_LONGITUDE -119 26 15.000 signed deg min sec SDDD MM SS.SSS*
NORTH_LATITUDE 37 3 45.000 signed deg min sec SDDD MM SS.SSS*
SOUTH_LATITUDE 37 0 0.000 signed deg min sec SDDD MM SS.SSS*
PRODUCTION_DATE 1997 4 11 yyyy mm dd*
RASTER_ORDER LEFT_RIGHT/TOP_BOTTOM video display order*
BAND_ORGANIZATION "SINGLE FILE" single file or BSQ, or BIL or BIP*
BAND_CONTENT BLACK&WHITE black&white or red green blue*
BITS_PER_PIXEL 8 radiometric resolution*
SAMPLES_AND_LINES 6430 7686 number of columns and rows*
HORIZONTAL_DATUM NAD83 primary horizontal datum*
HORIZONTAL_COORDINATE_SYSTEM UTM *
COORDINATE_ZONE 11 coordinate system zone number*
HORIZONTAL_UNITS METERS coordinate system units*
HORIZONTAL_RESOLUTION 1.00 pixel horiz. ground sample distance*
SECONDARY_HORIZONTAL_DATUM NAD27 secondary horizontal datum*
XY_ORIGIN 277152.000 4105030.000 coord. of upper left pixel pri. datum*
SECONDARY_XY_ORIGIN 277232.767 4104830.071 coord upper left pixel sec datum*
NATION US nation code*
STATE CA state fip code*
NW_QUAD_CORNER_XY 277722.558 4104729.428 XY coords. of pri. NW quad corner*
NE_QUAD_CORNER_XY 283280.431 4104585.009 XY coords. of pri. NE quad corner*
SE_QUAD_CORNER_XY 283102.637 4097649.906 XY coords. of pri. SE quad corner*
SW_QUAD_CORNER_XY 277540.197 4097794.235 XY coords. of pri. SW quad corner*
SECONDARY_NW_QUAD_XY 277717.131 4104526.158 XY coords. - sec. NW quad cor.*
SECONDARY_NE_QUAD_XY 283275.140 4104381.735 XY coords. - sec. NE quad cor.*
SECONDARY_SE_QUAD_XY 283097.350 4097446.794 XY coords. - sec. SE quad cor.*
SECONDARY_SW_QUAD_XY 277534.775 4097591.127 XY coords. - sec. SW quad cor.*
RMSE_XY 2.80 doq horiz. accuracy*
IMAGE_SOURCE "BLACK AND WHITE FILM" b&w, cir, natural color, other*
SOURCE_IMAGE_ID "NAPP 6296 122" source image id*
SOURCE_IMAGE_DATE 1993 5 29 source image date as yyyy mm dd*
IMAGE_SOURCE "BLACK AND WHITE FILM" b&w, cir, natural color, other*
SOURCE_IMAGE_ID "NAPP 6296 121" source image id*
SOURCE_IMAGE_DATE 1993 5 29 source image date as yyyy mm dd*
SOURCE_DEM_DATE 1997 4 11 source dem date yyyy mm dd*
AGENCY "WESTERN MAPPING CENTER (WMC)" oversight agency*
PRODUCER "Science Applications International" producer/contractor*
PRODUCTION_SYSTEM "GIS/MAGIC" production system*
STANDARD_VERSION 1996 12 version of DOQ standard*
METADATA_DATE 1997 10 28 date created or changed, yyyy mm dd*
DATA_FILE_SIZE 49427410 data set size in bytes*
BYTE_COUNT 6430 header byte count* * * * * * * * * * * * * * * * * * * * * * * * * * * * * * * * * * *
END_USGS_HEADER *
