BEGIN_USGS_DOQ_HEADER *
QUADRANGLE_NAME "MILLERTON LAKE EAST" 3.45 or 7.5-min. name*
QUADRANT NW quadrant indicator if cell size = 3.75-minutes*
WEST_LONGITUDE -119 37 30.000 signed deg min sec SDDD MM SS.SSS*
EAST_LONGITUDE -119 33 45.000 signed deg min sec SDDD MM SS.SSS*
NORTH_LATITUDE 37 7 30.000 signed deg min sec SDDD MM SS.SSS*
SOUTH_LATITUDE 37 3 45.000 signed deg min sec SDDD MM SS.SSS*
PRODUCTION_DATE 1998 6 18 yyyy mm dd*
RASTER_ORDER LEFT_RIGHT/TOP_BOTTOM video display order*
BAND_ORGANIZATION "SINGLE FILE" single file or BSQ, or BIL or BIP*
BAND_CONTENT BLACK&WHITE black&white or red green blue*
BITS_PER_PIXEL 8 radiometric resolution*
SAMPLES_AND_LINES 6435 7693 number of columns and rows*
HORIZONTAL_DATUM NAD83 primary horizontal datum*
HORIZONTAL_COORDINATE_SYSTEM UTM *
COORDINATE_ZONE 11 coordinate system zone number*
HORIZONTAL_UNITS METERS coordinate system units*
HORIZONTAL_RESOLUTION 1.00 pixel horiz. ground sample distance*
SECONDARY_HORIZONTAL_DATUM NAD27 secondary horizontal datum*
XY_ORIGIN 266218.000 4112265.000 coord. of upper left pixel pri. datum*
SECONDARY_XY_ORIGIN 266299.181 4112064.900 coord upper left pixel sec datum*
NATION US nation code*
STATE CA state fip code*
NW_QUAD_CORNER_XY 266798.367 4111964.693 XY coords. of pri. NW quad corner*
NE_QUAD_CORNER_XY 272351.812 4111812.854 XY coords. of pri. NE quad corner*
SE_QUAD_CORNER_XY 272164.612 4104877.510 XY coords. of pri. SE quad corner*
SW_QUAD_CORNER_XY 266606.592 4105029.255 XY coords. of pri. SW quad corner*
SECONDARY_NW_QUAD_XY 266792.664 4111761.270 XY coords. - sec. NW quad cor.*
SECONDARY_NE_QUAD_XY 272346.245 4111609.426 XY coords. - sec. NE quad cor.*
SECONDARY_SE_QUAD_XY 272159.050 4104674.243 XY coords. - sec. SE quad cor.*
SECONDARY_SW_QUAD_XY 266600.894 4104825.993 XY coords. - sec. SW quad cor.*
RMSE_XY 2.10 doq horiz. accuracy*
IMAGE_SOURCE "BLACK AND WHITE FILM" b&w, cir, natural color, other*
SOURCE_IMAGE_ID "NAPP 6301 071" source image id*
SOURCE_IMAGE_DATE 1993 06 09 source image date as yyyy mm dd*
SOURCE_DEM_DATE 1965 00 00 source dem date yyyy mm dd*
AGENCY "WESTERN MAPPING CENTER (WMC)" oversight agency*
PRODUCER "SCIENCE APPLICATIONS INTERNATIONAL" producer/contractor*
PRODUCTION_SYSTEM "GIS/MAGIC" production system*
STANDARD_VERSION 1996 12 version of DOQ standard*
METADATA_DATE 1998 06 19 date created or changed, yyyy mm dd*
DATA_FILE_SIZE 49510890 data set size in bytes*
BYTE_COUNT 6435 header byte count* * * * * * * * * * * * * * * * * * * * * * * * * * * * * * * * * * * * * *
END_USGS_HEADER *
