FILENAME: 37119A61
QUADRANGLE_NAME: MILLERTON LAKE WEST
QUADRANT: NW
WEST_LONGITUDE: -119 45 0.00000
EAST_LONGITUDE: -119 41 15.00000
NORTH_LATITUDE: 37 7 30.00000
SOUTH_LATITUDE: 37 3 45.00000
PRODUCTION_DATE: 2002 02 06
RASTER_ORDER: LEFT_RIGHT/TOP_BOTTOM
BAND_ORGANIZATION: SINGLE FILE
BAND_CONTENT: BLACK&WHITE
BAND_CONTENT: UNDEFINED
BAND_CONTENT: UNDEFINED
BITS_PER_PIXEL: 8
SAMPLES_AND_LINES: 6480 7710
HORIZONTAL_DATUM: NAD83
HORIZONTAL_COORDINATE_SYSTEM: UTM
COORDINATE_ZONE: 11
HORIZONTAL_UNITS: METERS
HORIZONTAL_RESOLUTION: 1.00000
SECONDARY_HORIZONTAL_DATUM: NAD27
XY_ORIGIN: 255090.00000 4112580.00000
SECONDARY_XY_ORIGIN: 255171.61600 4112379.79200
NATION: US
STATE: CA
NW_QUAD_CORNER_XY: 255691.24600 4112279.37200
NE_QUAD_CORNER_XY: 261244.84500 4112120.20000
SE_QUAD_CORNERY_XY: 261048.49500 4105184.66500
SW_QUAD_CORNER_XY: 255490.32000 4105343.73900
SECONDARY_NW_QUAD_XY: 255685.27200 4112075.95600
SECONDARY_NE_QUAD_XY: 261239.00700 4111916.78000
SECONDARY_SE_QUAD_XY: 261042.66100 4104981.40600
SECONDARY_SW_QUAD_XY: 255484.35000 4105140.48400
RMSE_XY: 1.86000
IMAGE_SOURCE: BLACK AND WHITE FILM
SOURCE_IMAGE_ID: NAPP 10547 122
SOURCE_IMAGE_DATE: 1998 08 17
SOURCE_DEM_DATE: 1965 00 00
AGENCY: WESTERN MAPPING CENTER (WMC)
PRODUCER: SANBORN COLORADO, L.L.C.
PRODUCTION_SYSTEM: ORBIT OR_RECTIFY V.5.2
COMPRESSION: UNDEFINED
STANDARD_VERSION: 1996 12
METADATA_DATE: 2002 02 07
DATA_FILE_SIZE: 49967280
BYTE_COUNT: 6480
