BEGIN_USGS_DOQ_HEADER *
QUADRANGLE_NAME "CASCADEL POINT" 3.45 or 7.5-min. name*
QUADRANT NW quadrant indicator if cell size = 3.75-minutes*
WEST_LONGITUDE -119 30 0.000 signed deg min sec SDDD MM SS.SSS*
EAST_LONGITUDE -119 26 15.000 signed deg min sec SDDD MM SS.SSS*
NORTH_LATITUDE 37 15 0.000 signed deg min sec SDDD MM SS.SSS*
SOUTH_LATITUDE 37 11 15.000 signed deg min sec SDDD MM SS.SSS*
PRODUCTION_DATE 1996 12 17 yyyy mm dd*
RASTER_ORDER LEFT_RIGHT/TOP_BOTTOM video display order*
BAND_ORGANIZATION "SINGLE FILE" single file or BSQ, or BIL or BIP*
BAND_CONTENT BLACK&WHITE black&white or red green blue*
BITS_PER_PIXEL 8 radiometric resolution*
SAMPLES_AND_LINES 6417 7687 number of columns and rows*
HORIZONTAL_DATUM NAD83 primary horizontal datum*
HORIZONTAL_COORDINATE_SYSTEM UTM *
COORDINATE_ZONE 11 coordinate system zone number*
HORIZONTAL_UNITS METERS coordinate system units*
HORIZONTAL_RESOLUTION 1.00 pixel horiz. ground sample distance*
SECONDARY_HORIZONTAL_DATUM NAD27 secondary horizontal datum*
XY_ORIGIN 277700.000 4125836.000 coord. of upper left pixel pri. datum*
SECONDARY_XY_ORIGIN 277780.696 4125635.856 coord upper left pixel sec datum*
NATION US nation code*
STATE CA state fip code*
NW_QUAD_CORNER_XY 278271.230 4125535.363 XY coords. of pri. NW quad corner*
NE_QUAD_CORNER_XY 283815.362 4125390.677 XY coords. of pri. NE quad corner*
SE_QUAD_CORNER_XY 283636.793 4118455.394 XY coords. of pri. SE quad corner*
SW_QUAD_CORNER_XY 278088.074 4118599.992 XY coords. of pri. SW quad corner*
SECONDARY_NW_QUAD_XY 278265.790 4125331.612 XY coords. - sec. NW quad cor.*
SECONDARY_NE_QUAD_XY 283810.059 4125186.923 XY coords. - sec. NE quad cor.*
SECONDARY_SE_QUAD_XY 283631.494 4118251.799 XY coords. - sec. SE quad cor.*
SECONDARY_SW_QUAD_XY 278082.639 4118396.400 XY coords. - sec. SW quad cor.*
RMSE_XY 1.70 doq horiz. accuracy*
IMAGE_SOURCE "BLACK AND WHITE FILM" b&w, cir, natural color, other*
SOURCE_IMAGE_ID "NAPP 6305 095" source image id*
SOURCE_IMAGE_DATE 1993 7 16 source image date as yyyy mm dd*
SOURCE_DEM_DATE 1996 12 17 source dem date yyyy mm dd*
AGENCY "WESTERN MAPPING CENTER (WMC)" oversight agency*
PRODUCER "Science Applications International" producer/contractor*
PRODUCTION_SYSTEM "GIS/MAGIC" production system*
STANDARD_VERSION 1996 12 version of DOQ standard*
METADATA_DATE 1997 10 28 date created or changed, yyyy mm dd*
DATA_FILE_SIZE 49333896 data set size in bytes*
BYTE_COUNT 6417 header byte count* * * * * * * * * * * * * * * * * * * * * * * * * * * * * * * * * * * * * *
END_USGS_HEADER *
