BEGIN_USGS_DOQ_HEADER *
QUADRANGLE_NAME "CASCADEL POINT" *
QUADRANT SE *
WEST_LONGITUDE -119 26 15.000 *
EAST_LONGITUDE -119 22 30.000 *
NORTH_LATITUDE 37 11 15.000 *
SOUTH_LATITUDE 37 7 30.000 *
PRODUCTION_DATE 2001 10 18 *
RASTER_ORDER LEFT_RIGHT/TOP_BOTTOM *
BAND_ORGANIZATION "SINGLE FILE" *
BAND_CONTENT BLACK&WHITE *
BITS_PER_PIXEL 8 *
SAMPLES_AND_LINES 6409 7676 *
HORIZONTAL_DATUM NAD83 *
HORIZONTAL_COORDINATE_SYSTEM UTM *
COORDINATE_ZONE 11 *
HORIZONTAL_UNITS METERS *
HORIZONTAL_RESOLUTION 1.0 *
SECONDARY_HORIZONTAL_DATUM NAD27 *
XY_ORIGIN 283074.590 4118753.395 *
SECONDARY_XY_ORIGIN 283155.173 4118553.436 *
NATION US *
STATE CA *
NW_QUAD_CORNER_XY 283636.793 4118455.395 *
NE_QUAD_CORNER_XY 289185.442 4118314.464 *
SE_QUAD_CORNER_XY 289011.712 4111379.328 *
SW_QUAD_CORNER_XY 283458.483 4111520.172 *
SECONDARY_NW_QUAD_XY 283631.498 4118251.799 *
SECONDARY_NE_QUAD_XY 289180.283 4118110.864 *
SECONDARY_SE_QUAD_XY 289006.556 4111175.888 *
SECONDARY_SW_QUAD_XY 283453.192 4111316.736 *
RMSE_XY 1.70 *
IMAGE_SOURCE "BLACK AND WHITE FILM" *
SOURCE_IMAGE_ID "NAPP 10549 170" *
SOURCE_IMAGE_DATE 1998 8 20 *
SOURCE_IMAGE_ID "NAPP 10549 171" *
SOURCE_IMAGE_DATE 1998 8 20 *
SOURCE_IMAGE_ID "NAPP 10549 169" *
SOURCE_IMAGE_DATE 1998 8 20 *
SOURCE_IMAGE_ID "NAPP 10564 95" *
SOURCE_IMAGE_DATE 1998 9 18 *
SOURCE_IMAGE_ID "NAPP 10564 94" *
SOURCE_IMAGE_DATE 1998 9 18 *
SOURCE_IMAGE_ID "NAPP 10564 93" *
SOURCE_IMAGE_DATE 1998 9 18 *
SOURCE_IMAGE_ID "NAPP 10566 50" *
SOURCE_IMAGE_DATE 1999 7 30 *
SOURCE_IMAGE_ID "NAPP 10566 51" *
SOURCE_IMAGE_DATE 1999 7 30 *
SOURCE_IMAGE_ID "NAPP 10566 52" *
SOURCE_IMAGE_DATE 1999 7 30 *
SOURCE_DEM_DATE 2000 0 0 *
AGENCY "WESTERN MAPPING CENTER (WMC)" *
PRODUCER "USDA FS GEOSPATIAL SERVICE AND TECHNOLOGY CENTER" *
PRODUCTION_SYSTEM "ORBIT OR_RECTIFY V.5.2" *
STANDARD_VERSION 1996 12 *
METADATA_DATE 2001 10 25 *
DATA_FILE_SIZE 49201893 *
BYTE_COUNT 6409 * * * * * * * * * * * * * * * * * * * * * *
END_USGS_HEADER *
