BEGIN_USGS_DOQ_HEADER *
QUADRANGLE_NAME "NORTH FORK" *
QUADRANT SW *
WEST_LONGITUDE -119 37 30.000 *
EAST_LONGITUDE -119 33 45.000 *
NORTH_LATITUDE 37 11 15.000 *
SOUTH_LATITUDE 37 7 30.000 *
PRODUCTION_DATE 2001 10 18 *
RASTER_ORDER LEFT_RIGHT/TOP_BOTTOM *
BAND_ORGANIZATION "SINGLE FILE" *
BAND_CONTENT BLACK&WHITE *
BITS_PER_PIXEL 8 *
SAMPLES_AND_LINES 6424 7687 *
HORIZONTAL_DATUM NAD83 *
HORIZONTAL_COORDINATE_SYSTEM UTM *
COORDINATE_ZONE 11 *
HORIZONTAL_UNITS METERS *
HORIZONTAL_RESOLUTION 1.0 *
SECONDARY_HORIZONTAL_DATUM NAD27 *
XY_ORIGIN 266413.497 4119198.190 *
SECONDARY_XY_ORIGIN 266494.704 4118998.003 *
NATION US *
STATE CA *
NW_QUAD_CORNER_XY 266990.420 4118900.190 *
NE_QUAD_CORNER_XY 272539.284 4118748.257 *
SE_QUAD_CORNER_XY 272351.812 4111812.854 *
SW_QUAD_CORNER_XY 266798.367 4111964.694 *
SECONDARY_NW_QUAD_XY 266984.718 4118696.606 *
SECONDARY_NE_QUAD_XY 272533.718 4118544.669 *
SECONDARY_SE_QUAD_XY 272346.251 4111609.427 *
SECONDARY_SW_QUAD_XY 266792.669 4111761.270 *
RMSE_XY 1.70 *
IMAGE_SOURCE "BLACK AND WHITE FILM" *
SOURCE_IMAGE_ID "NAPP 10564 75" *
SOURCE_IMAGE_DATE 1998 9 18 *
SOURCE_IMAGE_ID "NAPP 10564 74" *
SOURCE_IMAGE_DATE 1998 9 18 *
SOURCE_IMAGE_ID "NAPP 10564 76" *
SOURCE_IMAGE_DATE 1998 9 18 *
SOURCE_IMAGE_ID "NAPP 10547 175" *
SOURCE_IMAGE_DATE 1998 8 17 *
SOURCE_IMAGE_ID "NAPP 10547 174" *
SOURCE_IMAGE_DATE 1998 8 17 *
SOURCE_IMAGE_ID "NAPP 10547 173" *
SOURCE_IMAGE_DATE 1998 8 17 *
SOURCE_DEM_DATE 1996 0 0 *
AGENCY "WESTERN MAPPING CENTER (WMC)" *
PRODUCER "USDA FS GEOSPATIAL SERVICE AND TECHNOLOGY CENTER" *
PRODUCTION_SYSTEM "ORBIT OR_RECTIFY V.5.2" *
STANDARD_VERSION 1996 12 *
METADATA_DATE 2001 10 25 *
DATA_FILE_SIZE 49387712 *
BYTE_COUNT 6424 * * * * * * * * * * * * * * * * * * * * * * * * * * * *
END_USGS_HEADER *
