FILENAME: 37119B81
QUADRANGLE_NAME: RAYMOND
QUADRANT: NW
WEST_LONGITUDE: -120 0 0.00000
EAST_LONGITUDE: -119 56 15.00000
NORTH_LATITUDE: 37 15 0.00000
SOUTH_LATITUDE: 37 11 15.00000
PRODUCTION_DATE: 2002 02 05
RASTER_ORDER: LEFT_RIGHT/TOP_BOTTOM
BAND_ORGANIZATION: SINGLE FILE
BAND_CONTENT: BLACK&WHITE
BAND_CONTENT: UNDEFINED
BAND_CONTENT: UNDEFINED
BITS_PER_PIXEL: 8
SAMPLES_AND_LINES: 6510 7740
HORIZONTAL_DATUM: NAD83
HORIZONTAL_COORDINATE_SYSTEM: UTM
COORDINATE_ZONE: 11
HORIZONTAL_UNITS: METERS
HORIZONTAL_RESOLUTION: 1.00000
SECONDARY_HORIZONTAL_DATUM: NAD27
XY_ORIGIN: 233280.00000 4127130.00000
SECONDARY_XY_ORIGIN: 233362.36900 4126929.55200
NATION: US
STATE: CA
NW_QUAD_CORNER_XY: 233915.46700 4126824.99700
NE_QUAD_CORNER_XY: 239460.21600 4126650.94000
SE_QUAD_CORNERY_XY: 239244.93500 4119714.89000
SW_QUAD_CORNER_XY: 233695.59300 4119888.84100
SECONDARY_NW_QUAD_XY: 233908.93800 4126621.27800
SECONDARY_NE_QUAD_XY: 239453.82400 4126447.21600
SECONDARY_SE_QUAD_XY: 239238.54800 4119511.32600
SECONDARY_SW_QUAD_XY: 233689.07000 4119685.28100
RMSE_XY: 3.05000
IMAGE_SOURCE: BLACK AND WHITE FILM
SOURCE_IMAGE_ID: NAPP 10547 6
SOURCE_IMAGE_DATE: 1998 08 17
SOURCE_DEM_DATE: 1981 00 00
AGENCY: WESTERN MAPPING CENTER (WMC)
PRODUCER: SANBORN COLORADO, L.L.C.
PRODUCTION_SYSTEM: ORBIT OR_RECTIFY V.5.2
COMPRESSION: UNDEFINED
STANDARD_VERSION: 1996 12
METADATA_DATE: 2002 02 06
DATA_FILE_SIZE: 50393910
BYTE_COUNT: 6510
