BEGIN_USGS_DOQ_HEADER *
QUADRANGLE_NAME "MOUNT GIVENS" *
QUADRANT NE *
WEST_LONGITUDE -119 3 45.000 *
EAST_LONGITUDE -119 0 0.000 *
NORTH_LATITUDE 37 22 30.000 *
SOUTH_LATITUDE 37 18 45.000 *
PRODUCTION_DATE 2001 11 2 *
RASTER_ORDER LEFT_RIGHT/TOP_BOTTOM *
BAND_ORGANIZATION "SINGLE FILE" *
BAND_CONTENT BLACK&WHITE *
BITS_PER_PIXEL 8 *
SAMPLES_AND_LINES 6366 7655 *
HORIZONTAL_DATUM NAD83 *
HORIZONTAL_COORDINATE_SYSTEM UTM *
COORDINATE_ZONE 11 *
HORIZONTAL_UNITS METERS *
HORIZONTAL_RESOLUTION 1.0 *
SECONDARY_HORIZONTAL_DATUM NAD27 *
XY_ORIGIN 316847.537 4138767.392 *
SECONDARY_XY_ORIGIN 316927.624 4138567.813 *
NATION US *
STATE CA *
NW_QUAD_CORNER_XY 317381.537 4138469.392 *
NE_QUAD_CORNER_XY 322916.035 4138350.237 *
SE_QUAD_CORNER_XY 322769.135 4131415.380 *
SW_QUAD_CORNER_XY 317230.040 4131534.463 *
SECONDARY_NW_QUAD_XY 317377.044 4138265.301 *
SECONDARY_NE_QUAD_XY 322911.679 4138146.143 *
SECONDARY_SE_QUAD_XY 322764.783 4131211.443 *
SECONDARY_SW_QUAD_XY 317225.552 4131330.530 *
RMSE_XY 2.84 *
IMAGE_SOURCE "BLACK AND WHITE FILM" *
SOURCE_IMAGE_ID "NAPP 10556 108" *
SOURCE_IMAGE_DATE 1998 8 26 *
SOURCE_IMAGE_ID "NAPP 10556 109" *
SOURCE_IMAGE_DATE 1998 8 26 *
SOURCE_IMAGE_ID "NAPP 10556 107" *
SOURCE_IMAGE_DATE 1998 8 26 *
SOURCE_IMAGE_ID "NAPP 10556 138" *
SOURCE_IMAGE_DATE 1998 8 26 *
SOURCE_IMAGE_ID "NAPP 10556 139" *
SOURCE_IMAGE_DATE 1998 8 26 *
SOURCE_IMAGE_ID "NAPP 10556 140" *
SOURCE_IMAGE_DATE 1998 8 26 *
SOURCE_IMAGE_ID "NAPP 10556 254" *
SOURCE_IMAGE_DATE 1998 8 26 *
SOURCE_IMAGE_ID "NAPP 10556 253" *
SOURCE_IMAGE_DATE 1998 8 26 *
SOURCE_IMAGE_ID "NAPP 10556 252" *
SOURCE_IMAGE_DATE 1998 8 26 *
SOURCE_DEM_DATE 2000 0 0 *
AGENCY "WESTERN MAPPING CENTER (WMC)" *
PRODUCER "USDA FS GEOSPATIAL SERVICE AND TECHNOLOGY CENTER" *
PRODUCTION_SYSTEM "ORBIT OR_RECTIFY V.5.2" *
STANDARD_VERSION 1996 12 *
METADATA_DATE 2001 11 5 *
DATA_FILE_SIZE 48738096 *
BYTE_COUNT 6366 * * * * * * * * * * * * * * * * * * * * *
END_USGS_HEADER *
