BEGIN_USGS_DOQ_HEADER *
QUADRANGLE_NAME "MOUNT GIVENS" *
QUADRANT NW *
WEST_LONGITUDE -119 7 30.000 *
EAST_LONGITUDE -119 3 45.000 *
NORTH_LATITUDE 37 22 30.000 *
SOUTH_LATITUDE 37 18 45.000 *
PRODUCTION_DATE 2001 11 2 *
RASTER_ORDER LEFT_RIGHT/TOP_BOTTOM *
BAND_ORGANIZATION "SINGLE FILE" *
BAND_CONTENT BLACK&WHITE *
BITS_PER_PIXEL 8 *
SAMPLES_AND_LINES 6371 7658 *
HORIZONTAL_DATUM NAD83 *
HORIZONTAL_COORDINATE_SYSTEM UTM *
COORDINATE_ZONE 11 *
HORIZONTAL_UNITS METERS *
HORIZONTAL_RESOLUTION 1.0 *
SECONDARY_HORIZONTAL_DATUM NAD27 *
XY_ORIGIN 311308.233 4138890.218 *
SECONDARY_XY_ORIGIN 311388.299 4138690.540 *
NATION US *
STATE CA *
NW_QUAD_CORNER_XY 311846.980 4138592.218 *
NE_QUAD_CORNER_XY 317381.537 4138469.392 *
SE_QUAD_CORNER_XY 317230.040 4131534.463 *
SW_QUAD_CORNER_XY 311690.887 4131657.215 *
SECONDARY_NW_QUAD_XY 311842.352 4138388.129 *
SECONDARY_NE_QUAD_XY 317377.044 4138265.301 *
SECONDARY_SE_QUAD_XY 317225.552 4131330.530 *
SECONDARY_SW_QUAD_XY 311686.263 4131453.285 *
RMSE_XY 2.84 *
IMAGE_SOURCE "BLACK AND WHITE FILM" *
SOURCE_IMAGE_ID "NAPP 10556 139" *
SOURCE_IMAGE_DATE 1998 8 26 *
SOURCE_IMAGE_ID "NAPP 10556 138" *
SOURCE_IMAGE_DATE 1998 8 26 *
SOURCE_IMAGE_ID "NAPP 10556 140" *
SOURCE_IMAGE_DATE 1998 8 26 *
SOURCE_IMAGE_ID "NAPP 10559 3" *
SOURCE_IMAGE_DATE 1998 9 12 *
SOURCE_IMAGE_ID "NAPP 10559 2" *
SOURCE_IMAGE_DATE 1998 9 12 *
SOURCE_IMAGE_ID "NAPP 10559 1" *
SOURCE_IMAGE_DATE 1998 9 12 *
SOURCE_IMAGE_ID "NAPP 10556 109" *
SOURCE_IMAGE_DATE 1998 8 26 *
SOURCE_IMAGE_ID "NAPP 10556 108" *
SOURCE_IMAGE_DATE 1998 8 26 *
SOURCE_IMAGE_ID "NAPP 10556 107" *
SOURCE_IMAGE_DATE 1998 8 26 *
SOURCE_DEM_DATE 2000 0 0 *
AGENCY "WESTERN MAPPING CENTER (WMC)" *
PRODUCER "USDA FS GEOSPATIAL SERVICE AND TECHNOLOGY CENTER" *
PRODUCTION_SYSTEM "ORBIT OR_RECTIFY V.5.2" *
STANDARD_VERSION 1996 12 *
METADATA_DATE 2001 11 5 *
DATA_FILE_SIZE 48795489 *
BYTE_COUNT 6371 * * * * * * * * * * * * * * * * * * * * *
END_USGS_HEADER *
