BEGIN_USGS_DOQ_HEADER *
QUADRANGLE_NAME "MOUNT GIVENS" *
QUADRANT SE *
WEST_LONGITUDE -119 3 45.000 *
EAST_LONGITUDE -119 0 0.000 *
NORTH_LATITUDE 37 18 45.000 *
SOUTH_LATITUDE 37 15 0.000 *
PRODUCTION_DATE 2001 11 2 *
RASTER_ORDER LEFT_RIGHT/TOP_BOTTOM *
BAND_ORGANIZATION "SINGLE FILE" *
BAND_CONTENT BLACK&WHITE *
BITS_PER_PIXEL 8 *
SAMPLES_AND_LINES 6371 7654 *
HORIZONTAL_DATUM NAD83 *
HORIZONTAL_COORDINATE_SYSTEM UTM *
COORDINATE_ZONE 11 *
HORIZONTAL_UNITS METERS *
HORIZONTAL_RESOLUTION 1.0 *
SECONDARY_HORIZONTAL_DATUM NAD27 *
XY_ORIGIN 316696.333 4131832.463 *
SECONDARY_XY_ORIGIN 316776.353 4131632.946 *
NATION US *
STATE CA *
NW_QUAD_CORNER_XY 317230.040 4131534.463 *
NE_QUAD_CORNER_XY 322769.135 4131415.380 *
SE_QUAD_CORNER_XY 322622.447 4124480.587 *
SW_QUAD_CORNER_XY 317078.762 4124599.598 *
SECONDARY_NW_QUAD_XY 317225.552 4131330.530 *
SECONDARY_NE_QUAD_XY 322764.783 4131211.443 *
SECONDARY_SE_QUAD_XY 322618.099 4124276.809 *
SECONDARY_SW_QUAD_XY 317074.278 4124395.824 *
RMSE_XY 2.84 *
IMAGE_SOURCE "BLACK AND WHITE FILM" *
SOURCE_IMAGE_ID "NAPP 10556 110" *
SOURCE_IMAGE_DATE 1998 8 26 *
SOURCE_IMAGE_ID "NAPP 10556 111" *
SOURCE_IMAGE_DATE 1998 8 26 *
SOURCE_IMAGE_ID "NAPP 10556 109" *
SOURCE_IMAGE_DATE 1998 8 26 *
SOURCE_IMAGE_ID "NAPP 10556 136" *
SOURCE_IMAGE_DATE 1998 8 26 *
SOURCE_IMAGE_ID "NAPP 10556 137" *
SOURCE_IMAGE_DATE 1998 8 26 *
SOURCE_IMAGE_ID "NAPP 10556 138" *
SOURCE_IMAGE_DATE 1998 8 26 *
SOURCE_IMAGE_ID "NAPP 10556 256" *
SOURCE_IMAGE_DATE 1998 8 26 *
SOURCE_IMAGE_ID "NAPP 10556 255" *
SOURCE_IMAGE_DATE 1998 8 26 *
SOURCE_IMAGE_ID "NAPP 10556 254" *
SOURCE_IMAGE_DATE 1998 8 26 *
SOURCE_DEM_DATE 2000 0 0 *
AGENCY "WESTERN MAPPING CENTER (WMC)" *
PRODUCER "USDA FS GEOSPATIAL SERVICE AND TECHNOLOGY CENTER" *
PRODUCTION_SYSTEM "ORBIT OR_RECTIFY V.5.2" *
STANDARD_VERSION 1996 12 *
METADATA_DATE 2001 11 5 *
DATA_FILE_SIZE 48770005 *
BYTE_COUNT 6371 * * * * * * * * * * * * * * * * * * * * *
END_USGS_HEADER *
