BEGIN_USGS_DOQ_HEADER *
QUADRANGLE_NAME "SHUTEYE PEAK" *
QUADRANT NW *
WEST_LONGITUDE -119 30 0.000 *
EAST_LONGITUDE -119 26 15.000 *
NORTH_LATITUDE 37 22 30.000 *
SOUTH_LATITUDE 37 18 45.000 *
PRODUCTION_DATE 2001 10 18 *
RASTER_ORDER LEFT_RIGHT/TOP_BOTTOM *
BAND_ORGANIZATION "SINGLE FILE" *
BAND_CONTENT BLACK&WHITE *
BITS_PER_PIXEL 8 *
SAMPLES_AND_LINES 6401 7680 *
HORIZONTAL_DATUM NAD83 *
HORIZONTAL_COORDINATE_SYSTEM UTM *
COORDINATE_ZONE 11 *
HORIZONTAL_UNITS METERS *
HORIZONTAL_RESOLUTION 1.0 *
SECONDARY_HORIZONTAL_DATUM NAD27 *
XY_ORIGIN 278070.414 4139704.284 *
SECONDARY_XY_ORIGIN 278151.347 4139504.292 *
NATION US *
STATE CA *
NW_QUAD_CORNER_XY 278638.334 4139406.284 *
NE_QUAD_CORNER_XY 284173.273 4139261.424 *
SE_QUAD_CORNER_XY 283994.188 4132326.021 *
SW_QUAD_CORNER_XY 278454.650 4132470.794 *
SECONDARY_NW_QUAD_XY 278632.892 4139202.216 *
SECONDARY_NE_QUAD_XY 284167.966 4139057.353 *
SECONDARY_SE_QUAD_XY 283988.886 4132122.107 *
SECONDARY_SW_QUAD_XY 278449.212 4132266.884 *
RMSE_XY 1.70 *
IMAGE_SOURCE "BLACK AND WHITE FILM" *
SOURCE_IMAGE_ID "NAPP 10564 88" *
SOURCE_IMAGE_DATE 1998 9 18 *
SOURCE_IMAGE_ID "NAPP 10564 89" *
SOURCE_IMAGE_DATE 1998 9 18 *
SOURCE_IMAGE_ID "NAPP 10564 87" *
SOURCE_IMAGE_DATE 1998 9 18 *
SOURCE_IMAGE_ID "NAPP 10555 199" *
SOURCE_IMAGE_DATE 1998 8 26 *
SOURCE_IMAGE_ID "NAPP 10555 198" *
SOURCE_IMAGE_DATE 1998 8 26 *
SOURCE_IMAGE_ID "NAPP 10555 197" *
SOURCE_IMAGE_DATE 1998 8 26 *
SOURCE_IMAGE_ID "NAPP 10564 102" *
SOURCE_IMAGE_DATE 1998 9 18 *
SOURCE_IMAGE_ID "NAPP 10564 103" *
SOURCE_IMAGE_DATE 1998 9 18 *
SOURCE_IMAGE_ID "NAPP 10564 104" *
SOURCE_IMAGE_DATE 1998 9 18 *
SOURCE_DEM_DATE 2000 0 0 *
AGENCY "WESTERN MAPPING CENTER (WMC)" *
PRODUCER "USDA FS GEOSPATIAL SERVICE AND TECHNOLOGY CENTER" *
PRODUCTION_SYSTEM "ORBIT OR_RECTIFY V.5.2" *
STANDARD_VERSION 1996 12 *
METADATA_DATE 2001 10 25 *
DATA_FILE_SIZE 49166081 *
BYTE_COUNT 6401 * * * * * * * * * * * * * * * * * * * * *
END_USGS_HEADER *
