BEGIN_USGS_DOQ_HEADER *
QUADRANGLE_NAME "BASS LAKE" 3.45 or 7.5-min. name*
QUADRANT SE quadrant indicator if cell size = 3.75-minutes*
WEST_LONGITUDE -119 33 45.000 signed deg min sec SDDD MM SS.SSS*
EAST_LONGITUDE -119 30 0.000 signed deg min sec SDDD MM SS.SSS*
NORTH_LATITUDE 37 18 45.000 signed deg min sec SDDD MM SS.SSS*
SOUTH_LATITUDE 37 15 0.000 signed deg min sec SDDD MM SS.SSS*
PRODUCTION_DATE 1996 12 17 yyyy mm dd*
RASTER_ORDER LEFT_RIGHT/TOP_BOTTOM video display order*
BAND_ORGANIZATION "SINGLE FILE" single file or BSQ, or BIL or BIP*
BAND_CONTENT BLACK&WHITE black&white or red green blue*
BITS_PER_PIXEL 8 radiometric resolution*
SAMPLES_AND_LINES 6417 7691 number of columns and rows*
HORIZONTAL_DATUM NAD83 primary horizontal datum*
HORIZONTAL_COORDINATE_SYSTEM UTM *
COORDINATE_ZONE 11 coordinate system zone number*
HORIZONTAL_UNITS METERS coordinate system units*
HORIZONTAL_RESOLUTION 1.00 pixel horiz. ground sample distance*
SECONDARY_HORIZONTAL_DATUM NAD27 secondary horizontal datum*
XY_ORIGIN 272339.000 4132920.000 coord. of upper left pixel pri. datum*
SECONDARY_XY_ORIGIN 272420.078 4132719.877 coord upper left pixel sec datum*
NATION US nation code*
STATE CA state fip code*
NW_QUAD_CORNER_XY 272915.040 4132619.238 XY coords. of pri. NW quad corner*
NE_QUAD_CORNER_XY 278454.650 4132470.794 XY coords. of pri. NE quad corner*
SE_QUAD_CORNER_XY 278271.230 4125535.363 XY coords. of pri. SE quad corner*
SW_QUAD_CORNER_XY 272727.027 4125683.718 XY coords. of pri. SW quad corner*
SECONDARY_NW_QUAD_XY 272909.461 4132415.332 XY coords. - sec. NW quad cor.*
SECONDARY_NE_QUAD_XY 278449.206 4132266.884 XY coords. - sec. NE quad cor.*
SECONDARY_SE_QUAD_XY 278265.790 4125331.612 XY coords. - sec. SE quad cor.*
SECONDARY_SW_QUAD_XY 272721.451 4125479.971 XY coords. - sec. SW quad cor.*
RMSE_XY 2.60 doq horiz. accuracy*
IMAGE_SOURCE "BLACK AND WHITE FILM" b&w, cir, natural color, other*
SOURCE_IMAGE_ID "NAPP 6311 041" source image id*
SOURCE_IMAGE_DATE 1993 9 26 source image date as yyyy mm dd*
SOURCE_DEM_DATE 1996 12 17 source dem date yyyy mm dd*
AGENCY "WESTERN MAPPING CENTER (WMC)" oversight agency*
PRODUCER "Science Applications International" producer/contractor*
PRODUCTION_SYSTEM "GIS/MAGIC" production system*
STANDARD_VERSION 1996 12 version of DOQ standard*
METADATA_DATE 1997 10 28 date created or changed, yyyy mm dd*
DATA_FILE_SIZE 49359564 data set size in bytes*
BYTE_COUNT 6417 header byte count* * * * * * * * * * * * * * * * * * * * * * * * * * * * * * * * * * * * * *
END_USGS_HEADER *
