BEGIN_USGS_DOQ_HEADER *
QUADRANGLE_NAME "AHWAHNEE" *
QUADRANT NE *
WEST_LONGITUDE -119 41 15.000 *
EAST_LONGITUDE -119 37 30.000 *
NORTH_LATITUDE 37 22 30.000 *
SOUTH_LATITUDE 37 18 45.000 *
PRODUCTION_DATE 2001 10 18 *
RASTER_ORDER LEFT_RIGHT/TOP_BOTTOM *
BAND_ORGANIZATION "SINGLE FILE" *
BAND_CONTENT BLACK&WHITE *
BITS_PER_PIXEL 8 *
SAMPLES_AND_LINES 6416 7691 *
HORIZONTAL_DATUM NAD83 *
HORIZONTAL_COORDINATE_SYSTEM UTM *
COORDINATE_ZONE 11 *
HORIZONTAL_UNITS METERS *
HORIZONTAL_RESOLUTION 1.0 *
SECONDARY_HORIZONTAL_DATUM NAD27 *
XY_ORIGIN 261450.179 4140160.909 *
SECONDARY_XY_ORIGIN 261531.913 4139960.767 *
NATION US *
STATE CA *
NW_QUAD_CORNER_XY 262033.092 4139862.909 *
NE_QUAD_CORNER_XY 267568.245 4139707.026 *
SE_QUAD_CORNER_XY 267375.359 4132771.356 *
SW_QUAD_CORNER_XY 261835.604 4132927.146 *
SECONDARY_NW_QUAD_XY 262027.241 4139658.853 *
SECONDARY_NE_QUAD_XY 267562.531 4139502.966 *
SECONDARY_SE_QUAD_XY 267369.649 4132567.453 *
SECONDARY_SW_QUAD_XY 261829.757 4132723.247 *
RMSE_XY 1.70 *
IMAGE_SOURCE "BLACK AND WHITE FILM" *
SOURCE_IMAGE_ID "NAPP 10547 169" *
SOURCE_IMAGE_DATE 1998 8 17 *
SOURCE_IMAGE_ID "NAPP 10547 168" *
SOURCE_IMAGE_DATE 1998 8 17 *
SOURCE_IMAGE_ID "NAPP 10555 149" *
SOURCE_IMAGE_DATE 1998 8 26 *
SOURCE_IMAGE_ID "NAPP 10547 115" *
SOURCE_IMAGE_DATE 1998 8 17 *
SOURCE_IMAGE_ID "NAPP 10547 114" *
SOURCE_IMAGE_DATE 1998 8 17 *
SOURCE_IMAGE_ID "NAPP 10564 73" *
SOURCE_IMAGE_DATE 1998 9 18 *
SOURCE_IMAGE_ID "NAPP 10564 80" *
SOURCE_IMAGE_DATE 1998 9 18 *
SOURCE_IMAGE_ID "NAPP 10564 81" *
SOURCE_IMAGE_DATE 1998 9 18 *
SOURCE_IMAGE_ID "NAPP 10564 82" *
SOURCE_IMAGE_DATE 1998 9 18 *
SOURCE_DEM_DATE 2000 0 0 *
AGENCY "WESTERN MAPPING CENTER (WMC)" *
PRODUCER "USDA FS GEOSPATIAL SERVICE AND TECHNOLOGY CENTER" *
PRODUCTION_SYSTEM "ORBIT OR_RECTIFY V.5.2" *
STANDARD_VERSION 1996 12 *
METADATA_DATE 2001 10 25 *
DATA_FILE_SIZE 49351872 *
BYTE_COUNT 6416 * * * * * * * * * * * * * * * * * * * * * *
END_USGS_HEADER *
