BEGIN_USGS_DOQ_HEADER *
QUADRANGLE_NAME "AHWAHNEE" *
QUADRANT NW *
WEST_LONGITUDE -119 45 0.000 *
EAST_LONGITUDE -119 41 15.000 *
NORTH_LATITUDE 37 22 30.000 *
SOUTH_LATITUDE 37 18 45.000 *
PRODUCTION_DATE 2001 10 18 *
RASTER_ORDER LEFT_RIGHT/TOP_BOTTOM *
BAND_ORGANIZATION "SINGLE FILE" *
BAND_CONTENT BLACK&WHITE *
BITS_PER_PIXEL 8 *
SAMPLES_AND_LINES 6421 7695 *
HORIZONTAL_DATUM NAD83 *
HORIZONTAL_COORDINATE_SYSTEM UTM *
COORDINATE_ZONE 11 *
HORIZONTAL_UNITS METERS *
HORIZONTAL_RESOLUTION 1.0 *
SECONDARY_HORIZONTAL_DATUM NAD27 *
XY_ORIGIN 255909.952 4140320.468 *
SECONDARY_XY_ORIGIN 255991.942 4140120.277 *
NATION US *
STATE CA *
NW_QUAD_CORNER_XY 256497.863 4140022.468 *
NE_QUAD_CORNER_XY 262033.092 4139862.909 *
SE_QUAD_CORNER_XY 261835.604 4132927.146 *
SW_QUAD_CORNER_XY 256295.773 4133086.609 *
SECONDARY_NW_QUAD_XY 256491.875 4139818.415 *
SECONDARY_NE_QUAD_XY 262027.241 4139658.853 *
SECONDARY_SE_QUAD_XY 261829.757 4132723.247 *
SECONDARY_SW_QUAD_XY 256289.789 4132882.715 *
RMSE_XY 1.70 *
IMAGE_SOURCE "BLACK AND WHITE FILM" *
SOURCE_IMAGE_ID "NAPP 10547 114" *
SOURCE_IMAGE_DATE 1998 8 17 *
SOURCE_IMAGE_ID "NAPP 10547 115" *
SOURCE_IMAGE_DATE 1998 8 17 *
SOURCE_IMAGE_ID "NAPP 10564 73" *
SOURCE_IMAGE_DATE 1998 9 18 *
SOURCE_IMAGE_ID "NAPP 10564 47" *
SOURCE_IMAGE_DATE 1998 9 18 *
SOURCE_IMAGE_ID "NAPP 10547 168" *
SOURCE_IMAGE_DATE 1998 8 17 *
SOURCE_IMAGE_ID "NAPP 10547 169" *
SOURCE_IMAGE_DATE 1998 8 17 *
SOURCE_IMAGE_ID "NAPP 10555 149" *
SOURCE_IMAGE_DATE 1998 8 26 *
SOURCE_DEM_DATE 2000 0 0 *
AGENCY "WESTERN MAPPING CENTER (WMC)" *
PRODUCER "USDA FS GEOSPATIAL SERVICE AND TECHNOLOGY CENTER" *
PRODUCTION_SYSTEM "ORBIT OR_RECTIFY V.5.2" *
STANDARD_VERSION 1996 12 *
METADATA_DATE 2001 10 25 *
DATA_FILE_SIZE 49416016 *
BYTE_COUNT 6421 * * * * * * * * * * * * * * * * * * * * * * * * * *
END_USGS_HEADER *
