BEGIN_USGS_DOQ_HEADER *
QUADRANGLE_NAME "AHWAHNEE" 3.45 or 7.5-min. name*
QUADRANT SW quadrant indicator if cell size = 3.75-minutes*
WEST_LONGITUDE -119 45 0.000 signed deg min sec SDDD MM SS.SSS*
EAST_LONGITUDE -119 41 15.000 signed deg min sec SDDD MM SS.SSS*
NORTH_LATITUDE 37 18 45.000 signed deg min sec SDDD MM SS.SSS*
SOUTH_LATITUDE 37 15 0.000 signed deg min sec SDDD MM SS.SSS*
PRODUCTION_DATE 1998 6 18 yyyy mm dd*
RASTER_ORDER LEFT_RIGHT/TOP_BOTTOM video display order*
BAND_ORGANIZATION "SINGLE FILE" single file or BSQ, or BIL or BIP*
BAND_CONTENT BLACK&WHITE black&white or red green blue*
BITS_PER_PIXEL 8 radiometric resolution*
SAMPLES_AND_LINES 6432 7701 number of columns and rows*
HORIZONTAL_DATUM NAD83 primary horizontal datum*
HORIZONTAL_COORDINATE_SYSTEM UTM *
COORDINATE_ZONE 11 coordinate system zone number*
HORIZONTAL_UNITS METERS coordinate system units*
HORIZONTAL_RESOLUTION 1.00 pixel horiz. ground sample distance*
SECONDARY_HORIZONTAL_DATUM NAD27 secondary horizontal datum*
XY_ORIGIN 255705.000 4133387.000 coord. of upper left pixel pri. datum*
SECONDARY_XY_ORIGIN 255786.860 4133186.703 coord upper left pixel sec datum*
NATION US nation code*
STATE CA state fip code*
NW_QUAD_CORNER_XY 256295.773 4133086.609 XY coords. of pri. NW quad corner*
NE_QUAD_CORNER_XY 261835.604 4132927.145 XY coords. of pri. NE quad corner*
SE_QUAD_CORNER_XY 261638.400 4125991.439 XY coords. of pri. SE quad corner*
SW_QUAD_CORNER_XY 256093.973 4126150.806 XY coords. of pri. SW quad corner*
SECONDARY_NW_QUAD_XY 256289.784 4132882.714 XY coords. - sec. NW quad cor.*
SECONDARY_NE_QUAD_XY 261829.752 4132723.247 XY coords. - sec. NE quad cor.*
SECONDARY_SE_QUAD_XY 261632.552 4125787.699 XY coords. - sec. SE quad cor.*
SECONDARY_SW_QUAD_XY 256087.989 4125947.070 XY coords. - sec. SW quad cor.*
RMSE_XY 2.50 doq horiz. accuracy*
IMAGE_SOURCE "BLACK AND WHITE FILM" b&w, cir, natural color, other*
SOURCE_IMAGE_ID "NAPP 6297 134" source image id*
SOURCE_IMAGE_DATE 1993 05 29 source image date as yyyy mm dd*
IMAGE_SOURCE "BLACK AND WHITE FILM" b&w, cir, natural color, other*
SOURCE_IMAGE_ID "NAPP 6297 136" source image id*
SOURCE_IMAGE_DATE 1993 05 29 source image date as yyyy mm dd*
SOURCE_DEM_DATE 1997 01 01 source dem date yyyy mm dd*
AGENCY "WESTERN MAPPING CENTER (WMC)" oversight agency*
PRODUCER "SCIENCE APPLICATIONS INTERNATIONAL" producer/contractor*
PRODUCTION_SYSTEM "GIS/MAGIC" production system*
STANDARD_VERSION 1996 12 version of DOQ standard*
METADATA_DATE 1998 06 19 date created or changed, yyyy mm dd*
DATA_FILE_SIZE 49539264 data set size in bytes*
BYTE_COUNT 6432 header byte count* * * * * * * * * * * * * * * * * * * * * * * * * * * * * * * * * * *
END_USGS_HEADER *
