FILENAME: 37119C71
QUADRANGLE_NAME: HORSECAMP MOUNTAIN
QUADRANT: NW
WEST_LONGITUDE: -119 52 30.00000
EAST_LONGITUDE: -119 48 45.00000
NORTH_LATITUDE: 37 22 30.00000
SOUTH_LATITUDE: 37 18 45.00000
PRODUCTION_DATE: 2002 02 04
RASTER_ORDER: LEFT_RIGHT/TOP_BOTTOM
BAND_ORGANIZATION: SINGLE FILE
BAND_CONTENT: BLACK&WHITE
BAND_CONTENT: UNDEFINED
BAND_CONTENT: UNDEFINED
BITS_PER_PIXEL: 8
SAMPLES_AND_LINES: 6480 7740
HORIZONTAL_DATUM: NAD83
HORIZONTAL_COORDINATE_SYSTEM: UTM
COORDINATE_ZONE: 11
HORIZONTAL_UNITS: METERS
HORIZONTAL_RESOLUTION: 1.00000
SECONDARY_HORIZONTAL_DATUM: NAD27
XY_ORIGIN: 244800.00000 4140660.00000
SECONDARY_XY_ORIGIN: 244882.31400 4140459.73900
NATION: US
STATE: CA
NW_QUAD_CORNER_XY: 245427.17500 4140352.61400
NE_QUAD_CORNER_XY: 250962.55800 4140185.70300
SE_QUAD_CORNERY_XY: 250755.86400 4133249.74600
SW_QUAD_CORNER_XY: 245215.87700 4133416.55800
SECONDARY_NW_QUAD_XY: 245420.90900 4140148.57000
SECONDARY_NE_QUAD_XY: 250956.42900 4139981.65400
SECONDARY_SE_QUAD_XY: 250749.74000 4133045.85600
SECONDARY_SW_QUAD_XY: 245209.61600 4133212.67100
RMSE_XY: 2.65000
IMAGE_SOURCE: BLACK AND WHITE FILM
SOURCE_IMAGE_ID: NAPP 10560 142
SOURCE_IMAGE_DATE: 1998 09 12
SOURCE_DEM_DATE: 1981 00 00
AGENCY: WESTERN MAPPING CENTER (WMC)
PRODUCER: SANBORN COLORADO, L.L.C.
PRODUCTION_SYSTEM: ORBIT OR_RECTIFY V.5.2
COMPRESSION: UNDEFINED
STANDARD_VERSION: 1996 12
METADATA_DATE: 2002 02 06
DATA_FILE_SIZE: 50161680
BYTE_COUNT: 6480
