BEGIN_USGS_DOQ_HEADER *
QUADRANGLE_NAME "BALLOON DOME" 3.45 or 7.5-min. name*
QUADRANT NW quadrant indicator if cell size = 3.75-minutes*
WEST_LONGITUDE -119 15 0.000 signed deg min sec SDDD MM SS.SSS*
EAST_LONGITUDE -119 11 15.000 signed deg min sec SDDD MM SS.SSS*
NORTH_LATITUDE 37 30 0.000 signed deg min sec SDDD MM SS.SSS*
SOUTH_LATITUDE 37 26 15.000 signed deg min sec SDDD MM SS.SSS*
PRODUCTION_DATE 1997 4 11 yyyy mm dd*
RASTER_ORDER LEFT_RIGHT/TOP_BOTTOM video display order*
BAND_ORGANIZATION "SINGLE FILE" single file or BSQ, or BIL or BIP*
BAND_CONTENT BLACK&WHITE black&white or red green blue*
BITS_PER_PIXEL 8 radiometric resolution*
SAMPLES_AND_LINES 6379 7673 number of columns and rows*
HORIZONTAL_DATUM NAD83 primary horizontal datum*
HORIZONTAL_COORDINATE_SYSTEM UTM *
COORDINATE_ZONE 11 coordinate system zone number*
HORIZONTAL_UNITS METERS coordinate system units*
HORIZONTAL_RESOLUTION 1.00 pixel horiz. ground sample distance*
SECONDARY_HORIZONTAL_DATUM NAD27 secondary horizontal datum*
XY_ORIGIN 300557.000 4153020.000 coord. of upper left pixel pri. datum*
SECONDARY_XY_ORIGIN 300636.961 4152819.953 coord upper left pixel sec datum*
NATION US nation code*
STATE CA state fip code*
NW_QUAD_CORNER_XY 301108.976 4152719.382 XY coords. of pri. NW quad corner*
NE_QUAD_CORNER_XY 306634.437 4152589.060 XY coords. of pri. NE quad corner*
SE_QUAD_CORNER_XY 306473.285 4145653.856 XY coords. of pri. SE quad corner*
SW_QUAD_CORNER_XY 300943.213 4145784.102 XY coords. of pri. SW quad corner*
SECONDARY_NW_QUAD_XY 301104.066 4152514.987 XY coords. - sec. NW quad cor.*
SECONDARY_NE_QUAD_XY 306629.664 4152384.661 XY coords. - sec. NE quad cor.*
SECONDARY_SE_QUAD_XY 306468.516 4145449.614 XY coords. - sec. SE quad cor.*
SECONDARY_SW_QUAD_XY 300938.307 4145579.863 XY coords. - sec. SW quad cor.*
RMSE_XY 3.70 doq horiz. accuracy*
IMAGE_SOURCE "BLACK AND WHITE FILM" b&w, cir, natural color, other*
SOURCE_IMAGE_ID "NAPP 6308 157" source image id*
SOURCE_IMAGE_DATE 1993 9 24 source image date as yyyy mm dd*
IMAGE_SOURCE "BLACK AND WHITE FILM" b&w, cir, natural color, other*
SOURCE_IMAGE_ID "NAPP 6308 158" source image id*
SOURCE_IMAGE_DATE 1993 9 24 source image date as yyyy mm dd*
IMAGE_SOURCE "BLACK AND WHITE FILM" b&w, cir, natural color, other*
SOURCE_IMAGE_ID "NAPP 6308 156" source image id*
SOURCE_IMAGE_DATE 1993 9 24 source image date as yyyy mm dd*
SOURCE_DEM_DATE 1997 4 11 source dem date yyyy mm dd*
AGENCY "WESTERN MAPPING CENTER (WMC)" oversight agency*
PRODUCER "Science Applications International" producer/contractor*
PRODUCTION_SYSTEM "GIS/MAGIC" production system*
STANDARD_VERSION 1996 12 version of DOQ standard*
METADATA_DATE 1997 10 28 date created or changed, yyyy mm dd*
DATA_FILE_SIZE 48952446 data set size in bytes*
BYTE_COUNT 6379 header byte count* * * * * * * * * * * * * * * * * * * * * * * * * * * * * * *
END_USGS_HEADER *
