BEGIN_USGS_DOQ_HEADER *
QUADRANGLE_NAME "BALLOON DOME" *
QUADRANT NW *
WEST_LONGITUDE -119 15 0.000 *
EAST_LONGITUDE -119 11 15.000 *
NORTH_LATITUDE 37 30 0.000 *
SOUTH_LATITUDE 37 26 15.000 *
PRODUCTION_DATE 2001 11 2 *
RASTER_ORDER LEFT_RIGHT/TOP_BOTTOM *
BAND_ORGANIZATION "SINGLE FILE" *
BAND_CONTENT BLACK&WHITE *
BITS_PER_PIXEL 8 *
SAMPLES_AND_LINES 6372 7666 *
HORIZONTAL_DATUM NAD83 *
HORIZONTAL_COORDINATE_SYSTEM UTM *
COORDINATE_ZONE 11 *
HORIZONTAL_UNITS METERS *
HORIZONTAL_RESOLUTION 1.0 *
SECONDARY_HORIZONTAL_DATUM NAD27 *
XY_ORIGIN 300560.315 4153017.383 *
SECONDARY_XY_ORIGIN 300640.322 4152817.359 *
NATION US *
STATE CA *
NW_QUAD_CORNER_XY 301108.976 4152719.383 *
NE_QUAD_CORNER_XY 306634.437 4152589.060 *
SE_QUAD_CORNER_XY 306473.285 4145653.856 *
SW_QUAD_CORNER_XY 300943.213 4145784.102 *
SECONDARY_NW_QUAD_XY 301104.072 4152514.989 *
SECONDARY_NE_QUAD_XY 306629.665 4152384.661 *
SECONDARY_SE_QUAD_XY 306468.517 4145449.613 *
SECONDARY_SW_QUAD_XY 300938.312 4145579.864 *
RMSE_XY 2.84 *
IMAGE_SOURCE "BLACK AND WHITE FILM" *
SOURCE_IMAGE_ID "NAPP 10558 38" *
SOURCE_IMAGE_DATE 1998 9 10 *
SOURCE_IMAGE_ID "NAPP 10558 37" *
SOURCE_IMAGE_DATE 1998 9 10 *
SOURCE_IMAGE_ID "NAPP 10558 39" *
SOURCE_IMAGE_DATE 1998 9 10 *
SOURCE_IMAGE_ID "NAPP 10558 24" *
SOURCE_IMAGE_DATE 1998 9 10 *
SOURCE_IMAGE_ID "NAPP 10558 23" *
SOURCE_IMAGE_DATE 1998 9 10 *
SOURCE_IMAGE_ID "NAPP 10564 109" *
SOURCE_IMAGE_DATE 1998 9 18 *
SOURCE_IMAGE_ID "NAPP 10558 50" *
SOURCE_IMAGE_DATE 1998 9 10 *
SOURCE_IMAGE_ID "NAPP 10558 49" *
SOURCE_IMAGE_DATE 1998 9 10 *
SOURCE_IMAGE_ID "NAPP 10558 48" *
SOURCE_IMAGE_DATE 1998 9 10 *
SOURCE_DEM_DATE 2000 0 0 *
AGENCY "WESTERN MAPPING CENTER (WMC)" *
PRODUCER "USDA FS GEOSPATIAL SERVICE AND TECHNOLOGY CENTER" *
PRODUCTION_SYSTEM "ORBIT OR_RECTIFY V.5.2" *
STANDARD_VERSION 1996 12 *
METADATA_DATE 2001 11 5 *
DATA_FILE_SIZE 48854124 *
BYTE_COUNT 6372 * * * * * * * * * * * * * * * * * * * * *
END_USGS_HEADER *
