BEGIN_USGS_DOQ_HEADER *
QUADRANGLE_NAME "BALLOON DOME" 3.45 or 7.5-min. name*
QUADRANT SE quadrant indicator if cell size = 3.75-minutes*
WEST_LONGITUDE -119 11 15.000 signed deg min sec SDDD MM SS.SSS*
EAST_LONGITUDE -119 7 30.000 signed deg min sec SDDD MM SS.SSS*
NORTH_LATITUDE 37 26 15.000 signed deg min sec SDDD MM SS.SSS*
SOUTH_LATITUDE 37 22 30.000 signed deg min sec SDDD MM SS.SSS*
PRODUCTION_DATE 1997 4 11 yyyy mm dd*
RASTER_ORDER LEFT_RIGHT/TOP_BOTTOM video display order*
BAND_ORGANIZATION "SINGLE FILE" single file or BSQ, or BIL or BIP*
BAND_CONTENT BLACK&WHITE black&white or red green blue*
BITS_PER_PIXEL 8 radiometric resolution*
SAMPLES_AND_LINES 6379 7669 number of columns and rows*
HORIZONTAL_DATUM NAD83 primary horizontal datum*
HORIZONTAL_COORDINATE_SYSTEM UTM *
COORDINATE_ZONE 11 coordinate system zone number*
HORIZONTAL_UNITS METERS coordinate system units*
HORIZONTAL_RESOLUTION 1.00 pixel horiz. ground sample distance*
SECONDARY_HORIZONTAL_DATUM NAD27 secondary horizontal datum*
XY_ORIGIN 305926.000 4145954.000 coord. of upper left pixel pri. datum*
SECONDARY_XY_ORIGIN 306006.053 4145754.148 coord upper left pixel sec datum*
NATION US nation code*
STATE CA state fip code*
NW_QUAD_CORNER_XY 306473.285 4145653.856 XY coords. of pri. NW quad corner*
NE_QUAD_CORNER_XY 312003.297 4145527.284 XY coords. of pri. NE quad corner*
SE_QUAD_CORNER_XY 311846.980 4138592.218 XY coords. of pri. SE quad corner*
SW_QUAD_CORNER_XY 306312.364 4138718.715 XY coords. of pri. SW quad corner*
SECONDARY_NW_QUAD_XY 306468.516 4145449.614 XY coords. - sec. NW quad cor.*
SECONDARY_NE_QUAD_XY 311998.664 4145323.038 XY coords. - sec. NE quad cor.*
SECONDARY_SE_QUAD_XY 311842.350 4138388.130 XY coords. - sec. SE quad cor.*
SECONDARY_SW_QUAD_XY 306307.598 4138514.630 XY coords. - sec. SW quad cor.*
RMSE_XY 4.10 doq horiz. accuracy*
IMAGE_SOURCE "BLACK AND WHITE FILM" b&w, cir, natural color, other*
SOURCE_IMAGE_ID "NAPP 6308 186" source image id*
SOURCE_IMAGE_DATE 1993 9 24 source image date as yyyy mm dd*
IMAGE_SOURCE "BLACK AND WHITE FILM" b&w, cir, natural color, other*
SOURCE_IMAGE_ID "NAPP 6308 159" source image id*
SOURCE_IMAGE_DATE 1993 9 24 source image date as yyyy mm dd*
IMAGE_SOURCE "BLACK AND WHITE FILM" b&w, cir, natural color, other*
SOURCE_IMAGE_ID "NAPP 6308 184" source image id*
SOURCE_IMAGE_DATE 1993 9 24 source image date as yyyy mm dd*
IMAGE_SOURCE "BLACK AND WHITE FILM" b&w, cir, natural color, other*
SOURCE_IMAGE_ID "NAPP 6308 185" source image id*
SOURCE_IMAGE_DATE 1993 9 24 source image date as yyyy mm dd*
SOURCE_DEM_DATE 1997 4 11 source dem date yyyy mm dd*
AGENCY "WESTERN MAPPING CENTER (WMC)" oversight agency*
PRODUCER "Science Applications International" producer/contractor*
PRODUCTION_SYSTEM "GIS/MAGIC" production system*
STANDARD_VERSION 1996 12 version of DOQ standard*
METADATA_DATE 1997 10 28 date created or changed, yyyy mm dd*
DATA_FILE_SIZE 48926930 data set size in bytes*
BYTE_COUNT 6379 header byte count* * * * * * * * * * * * * * * * * * * * * * * * * * * *
END_USGS_HEADER *
