BEGIN_USGS_DOQ_HEADER *
QUADRANGLE_NAME "SQUAW DOME" 3.45 or 7.5-min. name*
QUADRANT NW quadrant indicator if cell size = 3.75-minutes*
WEST_LONGITUDE -119 22 30.000 signed deg min sec SDDD MM SS.SSS*
EAST_LONGITUDE -119 18 45.000 signed deg min sec SDDD MM SS.SSS*
NORTH_LATITUDE 37 30 0.000 signed deg min sec SDDD MM SS.SSS*
SOUTH_LATITUDE 37 26 15.000 signed deg min sec SDDD MM SS.SSS*
PRODUCTION_DATE 1996 12 17 yyyy mm dd*
RASTER_ORDER LEFT_RIGHT/TOP_BOTTOM video display order*
BAND_ORGANIZATION "SINGLE FILE" single file or BSQ, or BIL or BIP*
BAND_CONTENT BLACK&WHITE black&white or red green blue*
BITS_PER_PIXEL 8 radiometric resolution*
SAMPLES_AND_LINES 6389 7681 number of columns and rows*
HORIZONTAL_DATUM NAD83 primary horizontal datum*
HORIZONTAL_COORDINATE_SYSTEM UTM *
COORDINATE_ZONE 11 coordinate system zone number*
HORIZONTAL_UNITS METERS coordinate system units*
HORIZONTAL_RESOLUTION 1.00 pixel horiz. ground sample distance*
SECONDARY_HORIZONTAL_DATUM NAD27 secondary horizontal datum*
XY_ORIGIN 289496.000 4153292.000 coord. of upper left pixel pri. datum*
SECONDARY_XY_ORIGIN 289576.551 4153092.050 coord upper left pixel sec datum*
NATION US nation code*
STATE CA state fip code*
NW_QUAD_CORNER_XY 290057.865 4152991.058 XY coords. of pri. NW quad corner*
NE_QUAD_CORNER_XY 295583.452 4152853.382 XY coords. of pri. NE quad corner*
SE_QUAD_CORNER_XY 295413.078 4145918.022 XY coords. of pri. SE quad corner*
SW_QUAD_CORNER_XY 289882.879 4146055.617 XY coords. of pri. SW quad corner*
SECONDARY_NW_QUAD_XY 290052.682 4152786.669 XY coords. - sec. NW quad cor.*
SECONDARY_NE_QUAD_XY 295578.406 4152648.990 XY coords. - sec. NE quad cor.*
SECONDARY_SE_QUAD_XY 295408.035 4145713.787 XY coords. - sec. SE quad cor.*
SECONDARY_SW_QUAD_XY 289877.700 4145851.385 XY coords. - sec. SW quad cor.*
RMSE_XY 2.50 doq horiz. accuracy*
IMAGE_SOURCE "BLACK AND WHITE FILM" b&w, cir, natural color, other*
SOURCE_IMAGE_ID "NAPP 6308 115" source image id*
SOURCE_IMAGE_DATE 1993 9 24 source image date as yyyy mm dd*
SOURCE_DEM_DATE 1996 12 17 source dem date yyyy mm dd*
AGENCY "WESTERN MAPPING CENTER (WMC)" oversight agency*
PRODUCER "Science Applications International" producer/contractor*
PRODUCTION_SYSTEM "GIS/MAGIC" production system*
STANDARD_VERSION 1996 12 version of DOQ standard*
METADATA_DATE 1997 10 25 date created or changed, yyyy mm dd*
DATA_FILE_SIZE 49080298 data set size in bytes*
BYTE_COUNT 6389 header byte count* * * * * * * * * * * * * * * * * * * * * * * * * * * * * * * * * * * * *
END_USGS_HEADER *
