BEGIN_USGS_DOQ_HEADER *
QUADRANGLE_NAME "LITTLE SHUTEYE PEAK" 3.45 or 7.5-min. name*
QUADRANT SE quadrant indicator if cell size = 3.75-minutes*
WEST_LONGITUDE -119 26 15.000 signed deg min sec SDDD MM SS.SSS*
EAST_LONGITUDE -119 22 30.000 signed deg min sec SDDD MM SS.SSS*
NORTH_LATITUDE 37 26 15.000 signed deg min sec SDDD MM SS.SSS*
SOUTH_LATITUDE 37 22 30.000 signed deg min sec SDDD MM SS.SSS*
PRODUCTION_DATE 1997 4 11 yyyy mm dd*
RASTER_ORDER LEFT_RIGHT/TOP_BOTTOM video display order*
BAND_ORGANIZATION "SINGLE FILE" single file or BSQ, or BIL or BIP*
BAND_CONTENT BLACK&WHITE black&white or red green blue*
BITS_PER_PIXEL 8 radiometric resolution*
SAMPLES_AND_LINES 6398 7683 number of columns and rows*
HORIZONTAL_DATUM NAD83 primary horizontal datum*
HORIZONTAL_COORDINATE_SYSTEM UTM *
COORDINATE_ZONE 11 coordinate system zone number*
HORIZONTAL_UNITS METERS coordinate system units*
HORIZONTAL_RESOLUTION 1.00 pixel horiz. ground sample distance*
SECONDARY_HORIZONTAL_DATUM NAD27 secondary horizontal datum*
XY_ORIGIN 283786.000 4146497.000 coord. of upper left pixel pri. datum*
SECONDARY_XY_ORIGIN 283866.766 4146297.063 coord upper left pixel sec datum*
NATION US nation code*
STATE CA state fip code*
NW_QUAD_CORNER_XY 284352.614 4146196.887 XY coords. of pri. NW quad corner*
NE_QUAD_CORNER_XY 289882.879 4146055.617 XY coords. of pri. NE quad corner*
SE_QUAD_CORNER_XY 289708.143 4139120.238 XY coords. of pri. SE quad corner*
SW_QUAD_CORNER_XY 284173.273 4139261.424 XY coords. of pri. SW quad corner*
SECONDARY_NW_QUAD_XY 284347.299 4145992.659 XY coords. - sec. NW quad cor.*
SECONDARY_NE_QUAD_XY 289877.700 4145851.385 XY coords. - sec. NE quad cor.*
SECONDARY_SE_QUAD_XY 289702.968 4138916.163 XY coords. - sec. SE quad cor.*
SECONDARY_SW_QUAD_XY 284167.961 4139057.352 XY coords. - sec. SW quad cor.*
RMSE_XY 2.50 doq horiz. accuracy*
IMAGE_SOURCE "BLACK AND WHITE FILM" b&w, cir, natural color, other*
SOURCE_IMAGE_ID "NAPP 6308 110" source image id*
SOURCE_IMAGE_DATE 1993 9 24 source image date as yyyy mm dd*
IMAGE_SOURCE "BLACK AND WHITE FILM" b&w, cir, natural color, other*
SOURCE_IMAGE_ID "NAPP 6308 109" source image id*
SOURCE_IMAGE_DATE 1993 9 24 source image date as yyyy mm dd*
SOURCE_DEM_DATE 1997 4 11 source dem date yyyy mm dd*
AGENCY "WESTERN MAPPING CENTER (WMC)" oversight agency*
PRODUCER "Science Applications International" producer/contractor*
PRODUCTION_SYSTEM "GIS/MAGIC" production system*
STANDARD_VERSION 1996 12 version of DOQ standard*
METADATA_DATE 1997 10 28 date created or changed, yyyy mm dd*
DATA_FILE_SIZE 49162232 data set size in bytes*
BYTE_COUNT 6398 header byte count* * * * * * * * * * * * * * * * * * * * * * * * * * * * * * * * * *
END_USGS_HEADER *
