BEGIN_USGS_DOQ_HEADER *
QUADRANGLE_NAME "WHITE CHIEF MOUNTAIN" *
QUADRANT NW *
WEST_LONGITUDE -119 37 30.000 *
EAST_LONGITUDE -119 33 45.000 *
NORTH_LATITUDE 37 30 0.000 *
SOUTH_LATITUDE 37 26 15.000 *
PRODUCTION_DATE 2001 11 20 *
RASTER_ORDER LEFT_RIGHT/TOP_BOTTOM *
BAND_ORGANIZATION "SINGLE FILE" *
BAND_CONTENT BLACK&WHITE *
BITS_PER_PIXEL 8 *
SAMPLES_AND_LINES 6403 7688 *
HORIZONTAL_DATUM NAD83 *
HORIZONTAL_COORDINATE_SYSTEM UTM *
COORDINATE_ZONE 11 *
HORIZONTAL_UNITS METERS *
HORIZONTAL_RESOLUTION 1.0 *
SECONDARY_HORIZONTAL_DATUM NAD27 *
XY_ORIGIN 267376.133 4153876.540 *
SECONDARY_XY_ORIGIN 267457.844 4153676.628 *
NATION US *
STATE CA *
NW_QUAD_CORNER_XY 267954.849 4153578.540 *
NE_QUAD_CORNER_XY 273480.707 4153426.152 *
SE_QUAD_CORNER_XY 273291.881 4146490.455 *
SW_QUAD_CORNER_XY 267761.408 4146642.754 *
SECONDARY_NW_QUAD_XY 267949.126 4153374.167 *
SECONDARY_NE_QUAD_XY 273475.120 4153221.775 *
SECONDARY_SE_QUAD_XY 273286.299 4146286.234 *
SECONDARY_SW_QUAD_XY 267755.690 4146438.537 *
RMSE_XY 2.10 *
IMAGE_SOURCE "BLACK AND WHITE FILM" *
SOURCE_IMAGE_ID "NAPP 10564 85" *
SOURCE_IMAGE_DATE 1998 9 18 *
SOURCE_IMAGE_ID "NAPP 10564 84" *
SOURCE_IMAGE_DATE 1998 9 18 *
SOURCE_IMAGE_ID "NAPP 10564 86" *
SOURCE_IMAGE_DATE 1998 9 18 *
SOURCE_IMAGE_ID "NAPP 10555 147" *
SOURCE_IMAGE_DATE 1998 8 26 *
SOURCE_IMAGE_ID "NAPP 10555 146" *
SOURCE_IMAGE_DATE 1998 8 26 *
SOURCE_IMAGE_ID "NAPP 10555 145" *
SOURCE_IMAGE_DATE 1998 8 26 *
SOURCE_IMAGE_ID "NAPP 10555 195" *
SOURCE_IMAGE_DATE 1998 8 26 *
SOURCE_IMAGE_ID "NAPP 10555 194" *
SOURCE_IMAGE_DATE 1998 8 26 *
SOURCE_IMAGE_ID "NAPP 10555 193" *
SOURCE_IMAGE_DATE 1998 8 26 *
SOURCE_DEM_DATE 2000 0 0 *
AGENCY "WESTERN MAPPING CENTER (WMC)" *
PRODUCER "USDA FS GEOSPATIAL SERVICE AND TECHNOLOGY CENTER" *
PRODUCTION_SYSTEM "ORBIT OR_RECTIFY V.5.2" *
STANDARD_VERSION 1996 12 *
METADATA_DATE 2001 11 26 *
DATA_FILE_SIZE 49232667 *
BYTE_COUNT 6403 * * * * * * * * * * * * * * * * * * * * * *
END_USGS_HEADER *
