BEGIN_USGS_DOQ_HEADER *
QUADRANGLE_NAME "FISH CAMP" 3.45 or 7.5-min. name*
QUADRANT SW quadrant indicator if cell size = 3.75-minutes*
WEST_LONGITUDE -119 45 0.000 signed deg min sec SDDD MM SS.SSS*
EAST_LONGITUDE -119 41 15.000 signed deg min sec SDDD MM SS.SSS*
NORTH_LATITUDE 37 26 15.000 signed deg min sec SDDD MM SS.SSS*
SOUTH_LATITUDE 37 22 30.000 signed deg min sec SDDD MM SS.SSS*
PRODUCTION_DATE 1996 5 8 yyyy mm dd*
RASTER_ORDER LEFT_RIGHT/TOP_BOTTOM video display order*
BAND_ORGANIZATION "SINGLE FILE" single file or BSQ, or BIL or BIP*
BAND_CONTENT BLACK&WHITE black&white or red green blue*
BITS_PER_PIXEL 8 radiometric resolution*
SAMPLES_AND_LINES 6480 7710 number of columns and rows*
HORIZONTAL_DATUM NAD83 primary horizontal datum*
HORIZONTAL_COORDINATE_SYSTEM UTM *
COORDINATE_ZONE 11 coordinate system zone number*
HORIZONTAL_UNITS METERS coordinate system units*
HORIZONTAL_RESOLUTION 1.00 pixel horiz. ground sample distance*
SECONDARY_HORIZONTAL_DATUM NAD27 secondary horizontal datum*
XY_ORIGIN 256080.000 4147260.000 coord. of upper left pixel pri. datum*
SECONDARY_XY_ORIGIN 256162.128 4147059.907 coord upper left pixel sec datum*
NATION US nation code*
STATE CA state fip code*
NW_QUAD_CORNER_XY 256700.244 4146958.383 XY coords. of pri. NW quad corner*
NE_QUAD_CORNER_XY 262230.864 4146798.730 XY coords. of pri. NE quad corner*
SE_QUAD_CORNER_XY 262033.092 4139862.909 XY coords. of pri. SE quad corner*
SW_QUAD_CORNER_XY 256497.863 4140022.468 XY coords. of pri. SW quad corner*
SECONDARY_NW_QUAD_XY 256694.247 4146754.174 XY coords. - sec. NW quad cor.*
SECONDARY_NE_QUAD_XY 262225.002 4146594.516 XY coords. - sec. NE quad cor.*
SECONDARY_SE_QUAD_XY 262027.235 4139658.853 XY coords. - sec. SE quad cor.*
SECONDARY_SW_QUAD_XY 256491.870 4139818.415 XY coords. - sec. SW quad cor.*
RMSE_XY 1.90 doq horiz. accuracy*
IMAGE_SOURCE "BLACK AND WHITE FILM" b&w, cir, natural color, other*
SOURCE_IMAGE_ID "NAPP 6305 071" source image id*
SOURCE_IMAGE_DATE 1993 7 16 source image date as yyyy mm dd*
SOURCE_DEM_DATE 1996 5 8 source dem date yyyy mm dd*
AGENCY "WESTERN MAPPING CENTER (WMC)" oversight agency*
PRODUCER "Analytical Surveys" producer/contractor*
PRODUCTION_SYSTEM "ORBIT OR_RECTIFY V.5.2" production system*
STANDARD_VERSION 1996 12 version of DOQ standard*
METADATA_DATE 1997 6 13 date created or changed, yyyy mm dd*
DATA_FILE_SIZE 49967280 data set size in bytes*
BYTE_COUNT 6480 header byte count* * * * * * * * * * * * * * * * * * * * * * * * * * * * * * * * * * * * * *
END_USGS_HEADER *
