FILENAME: o37119d7_nw.tif
QUADRANGLE_NAME: STUMPFIELD MOUNTAIN
QUADRANT: NW
WEST_LONGITUDE: -119 52 30.00000
EAST_LONGITUDE: -119 48 45.00000
NORTH_LATITUDE: 37 30 0.00000
SOUTH_LATITUDE: 37 26 15.00000
PRODUCTION_DATE: 2001 11 19
RASTER_ORDER: LEFT_RIGHT/TOP_BOTTOM
BAND_ORGANIZATION: SINGLE FILE
BAND_CONTENT: BLACK&WHITE
BAND_CONTENT: UNDEFINED
BAND_CONTENT: UNDEFINED
BITS_PER_PIXEL: 8
SAMPLES_AND_LINES: 6423 7703
HORIZONTAL_DATUM: NAD83
HORIZONTAL_COORDINATE_SYSTEM: UTM
COORDINATE_ZONE: 11
HORIZONTAL_UNITS: METERS
HORIZONTAL_RESOLUTION: 1.00000
SECONDARY_HORIZONTAL_DATUM: NAD27
XY_ORIGIN: 245252.08000 4154522.89200
SECONDARY_XY_ORIGIN: 245334.66300 4154322.78300
NATION: US
STATE: CA
NW_QUAD_CORNER_XY: 245850.68100 4154224.89200
NE_QUAD_CORNER_XY: 251376.83700 4154057.78300
SE_QUAD_CORNERY_XY: 251169.54900 4147121.71500
SW_QUAD_CORNER_XY: 245638.77600 4147288.72500
SECONDARY_NW_QUAD_XY: 245844.40900 4154020.53400
SECONDARY_NE_QUAD_XY: 251370.70200 4153853.42100
SECONDARY_SE_QUAD_XY: 251163.41900 4146917.50900
SECONDARY_SW_QUAD_XY: 245632.51000 4147084.52400
RMSE_XY: 2.20000
IMAGE_SOURCE: BLACK AND WHITE FILM
SOURCE_IMAGE_ID: NAPP 10564 43
SOURCE_IMAGE_DATE: 1998 9 18
SOURCE_IMAGE_ID: NAPP 10549 137
SOURCE_IMAGE_DATE: 1998 8 20
SOURCE_IMAGE_ID: NAPP 10549 135
SOURCE_IMAGE_DATE: 1998 8 20
SOURCE_IMAGE_ID: NAPP 10549 118
SOURCE_IMAGE_DATE: 1998 8 20
SOURCE_IMAGE_ID: NAPP 10564 45
SOURCE_IMAGE_DATE: 1998 9 18
SOURCE_DEM_DATE: 2000 0 0
AGENCY: WESTERN MAPPING CENTER (WMC)
PRODUCER: USDA FS GEOSPATIAL SERVICE AND TECHNOLOGY CENTER
PRODUCTION_SYSTEM: ORBIT OR_RECTIFY V.5.2
COMPRESSION: UNDEFINED
STANDARD_VERSION: 1996 12
METADATA_DATE: 2001 11 19
DATA_FILE_SIZE: 49482792
BYTE_COUNT: 6423
