BEGIN_USGS_DOQ_HEADER *
QUADRANGLE_NAME "CRYSTAL CRAG" *
QUADRANT NE *
WEST_LONGITUDE -119 3 45.000 *
EAST_LONGITUDE -119 0 0.000 *
NORTH_LATITUDE 37 37 30.000 *
SOUTH_LATITUDE 37 33 45.000 *
PRODUCTION_DATE 2001 12 19 *
RASTER_ORDER LEFT_RIGHT/TOP_BOTTOM *
BAND_ORGANIZATION "SINGLE FILE" *
BAND_CONTENT BLACK&WHITE *
BITS_PER_PIXEL 8 *
SAMPLES_AND_LINES 6354 7660 *
HORIZONTAL_DATUM NAD83 *
HORIZONTAL_COORDINATE_SYSTEM UTM *
COORDINATE_ZONE 11 *
HORIZONTAL_UNITS METERS *
HORIZONTAL_RESOLUTION 1.0 *
SECONDARY_HORIZONTAL_DATUM NAD27 *
XY_ORIGIN 317452.204 4166509.748 *
SECONDARY_XY_ORIGIN 317533.235 4166310.232 *
NATION US *
STATE CA *
NW_QUAD_CORNER_XY 317989.699 4166209.748 *
NE_QUAD_CORNER_XY 323505.747 4166090.313 *
SE_QUAD_CORNER_XY 323358.003 4159155.197 *
SW_QUAD_CORNER_XY 317837.332 4159274.563 *
SECONDARY_NW_QUAD_XY 317985.192 4166005.032 *
SECONDARY_NE_QUAD_XY 323501.377 4165885.595 *
SECONDARY_SE_QUAD_XY 323353.636 4158950.633 *
SECONDARY_SW_QUAD_XY 317832.828 4159070.002 *
RMSE_XY 1.80 *
IMAGE_SOURCE "BLACK AND WHITE FILM" *
SOURCE_IMAGE_ID "NAPP 10556 100" *
SOURCE_IMAGE_DATE 1998 8 26 *
SOURCE_IMAGE_ID "NAPP 10556 101" *
SOURCE_IMAGE_DATE 1998 8 26 *
SOURCE_IMAGE_ID "NAPP 10556 99" *
SOURCE_IMAGE_DATE 1998 8 26 *
SOURCE_IMAGE_ID "NAPP 10556 146" *
SOURCE_IMAGE_DATE 1998 8 26 *
SOURCE_IMAGE_ID "NAPP 10556 147" *
SOURCE_IMAGE_DATE 1998 8 26 *
SOURCE_IMAGE_ID "NAPP 10556 148" *
SOURCE_IMAGE_DATE 1998 8 26 *
SOURCE_IMAGE_ID "NAPP 10556 246" *
SOURCE_IMAGE_DATE 1998 8 26 *
SOURCE_IMAGE_ID "NAPP 10556 245" *
SOURCE_IMAGE_DATE 1998 8 26 *
SOURCE_IMAGE_ID "NAPP 10556 244" *
SOURCE_IMAGE_DATE 1998 8 26 *
SOURCE_DEM_DATE 2000 0 0 *
AGENCY "WESTERN MAPPING CENTER (WMC)" *
PRODUCER "USDA FS GEOSPATIAL SERVICE AND TECHNOLOGY CENTER" *
PRODUCTION_SYSTEM "ORBIT OR_RECTIFY V.5.2" *
STANDARD_VERSION 1996 12 *
METADATA_DATE 2001 12 31 *
DATA_FILE_SIZE 48677994 *
BYTE_COUNT 6354 * * * * * * * * * * * * * * * * * * * * *
END_USGS_HEADER *
