BEGIN_USGS_DOQ_HEADER *
QUADRANGLE_NAME "CATTLE MOUNTAIN" 3.45 or 7.5-min. name*
QUADRANT NW quadrant indicator if cell size = 3.75-minutes*
WEST_LONGITUDE -119 15 0.000 signed deg min sec SDDD MM SS.SSS*
EAST_LONGITUDE -119 11 15.000 signed deg min sec SDDD MM SS.SSS*
NORTH_LATITUDE 37 37 30.000 signed deg min sec SDDD MM SS.SSS*
SOUTH_LATITUDE 37 33 45.000 signed deg min sec SDDD MM SS.SSS*
PRODUCTION_DATE 1996 5 17 yyyy mm dd*
RASTER_ORDER LEFT_RIGHT/TOP_BOTTOM video display order*
BAND_ORGANIZATION "SINGLE FILE" single file or BSQ, or BIL or BIP*
BAND_CONTENT BLACK&WHITE black&white or red green blue*
BITS_PER_PIXEL 8 radiometric resolution*
SAMPLES_AND_LINES 6390 7710 number of columns and rows*
HORIZONTAL_DATUM NAD83 primary horizontal datum*
HORIZONTAL_COORDINATE_SYSTEM UTM *
COORDINATE_ZONE 11 coordinate system zone number*
HORIZONTAL_UNITS METERS coordinate system units*
HORIZONTAL_RESOLUTION 1.00 pixel horiz. ground sample distance*
SECONDARY_HORIZONTAL_DATUM NAD27 secondary horizontal datum*
XY_ORIGIN 300870.000 4166910.000 coord. of upper left pixel pri. datum*
SECONDARY_XY_ORIGIN 300950.796 4166710.278 coord upper left pixel sec datum*
NATION US nation code*
STATE CA state fip code*
NW_QUAD_CORNER_XY 301441.213 4166590.131 XY coords. of pri. NW quad corner*
NE_QUAD_CORNER_XY 306957.433 4166459.656 XY coords. of pri. NE quad corner*
SE_QUAD_CORNER_XY 306795.820 4159524.327 XY coords. of pri. SE quad corner*
SW_QUAD_CORNER_XY 301274.976 4159654.726 XY coords. of pri. SW quad corner*
SECONDARY_NW_QUAD_XY 301436.296 4166385.425 XY coords. - sec. NW quad cor.*
SECONDARY_NE_QUAD_XY 306952.653 4166254.948 XY coords. - sec. NE quad cor.*
SECONDARY_SE_QUAD_XY 306791.043 4159319.773 XY coords. - sec. SE quad cor.*
SECONDARY_SW_QUAD_XY 301270.062 4159450.175 XY coords. - sec. SW quad cor.*
RMSE_XY 5.10 doq horiz. accuracy*
IMAGE_SOURCE "BLACK AND WHITE FILM" b&w, cir, natural color, other*
SOURCE_IMAGE_ID "NAPP 6308 153" source image id*
SOURCE_IMAGE_DATE 1993 9 24 source image date as yyyy mm dd*
SOURCE_DEM_DATE 1996 5 17 source dem date yyyy mm dd*
AGENCY "WESTERN MAPPING CENTER (WMC)" oversight agency*
PRODUCER "Analytical Surveys" producer/contractor*
PRODUCTION_SYSTEM "ORBIT OR_RECTIFY V.5.2" production system*
STANDARD_VERSION 1996 12 version of DOQ standard*
METADATA_DATE 1997 7 19 date created or changed, yyyy mm dd*
DATA_FILE_SIZE 49273290 data set size in bytes*
BYTE_COUNT 6390 header byte count* * * * * * * * * * * * * * * * * * * * * * * * * * * * * * * * * * * * *
END_USGS_HEADER *
