BEGIN_USGS_DOQ_HEADER *
QUADRANGLE_NAME "CATTLE MOUNTAIN" *
QUADRANT NW *
WEST_LONGITUDE -119 15 0.000 *
EAST_LONGITUDE -119 11 15.000 *
NORTH_LATITUDE 37 37 30.000 *
SOUTH_LATITUDE 37 33 45.000 *
PRODUCTION_DATE 2001 11 20 *
RASTER_ORDER LEFT_RIGHT/TOP_BOTTOM *
BAND_ORGANIZATION "SINGLE FILE" *
BAND_CONTENT BLACK&WHITE *
BITS_PER_PIXEL 8 *
SAMPLES_AND_LINES 6364 7667 *
HORIZONTAL_DATUM NAD83 *
HORIZONTAL_COORDINATE_SYSTEM UTM *
COORDINATE_ZONE 11 *
HORIZONTAL_UNITS METERS *
HORIZONTAL_RESOLUTION 1.0 *
SECONDARY_HORIZONTAL_DATUM NAD27 *
XY_ORIGIN 300891.689 4166888.131 *
SECONDARY_XY_ORIGIN 300972.517 4166688.426 *
NATION US *
STATE CA *
NW_QUAD_CORNER_XY 301441.213 4166590.131 *
NE_QUAD_CORNER_XY 306957.433 4166459.656 *
SE_QUAD_CORNER_XY 306795.820 4159524.327 *
SW_QUAD_CORNER_XY 301274.976 4159654.725 *
SECONDARY_NW_QUAD_XY 301436.301 4166385.427 *
SECONDARY_NE_QUAD_XY 306952.653 4166254.947 *
SECONDARY_SE_QUAD_XY 306791.043 4159319.772 *
SECONDARY_SW_QUAD_XY 301270.068 4159450.176 *
RMSE_XY 2.10 *
IMAGE_SOURCE "BLACK AND WHITE FILM" *
SOURCE_IMAGE_ID "NAPP 10558 42" *
SOURCE_IMAGE_DATE 1998 9 10 *
SOURCE_IMAGE_ID "NAPP 10558 41" *
SOURCE_IMAGE_DATE 1998 9 10 *
SOURCE_IMAGE_ID "NAPP 10564 140" *
SOURCE_IMAGE_DATE 1998 9 18 *
SOURCE_IMAGE_ID "NAPP 10564 111" *
SOURCE_IMAGE_DATE 1998 9 18 *
SOURCE_IMAGE_ID "NAPP 10564 112" *
SOURCE_IMAGE_DATE 1998 9 18 *
SOURCE_IMAGE_ID "NAPP 10564 113" *
SOURCE_IMAGE_DATE 1998 9 18 *
SOURCE_IMAGE_ID "NAPP 10554 31" *
SOURCE_IMAGE_DATE 1998 8 25 *
SOURCE_IMAGE_ID "NAPP 10554 30" *
SOURCE_IMAGE_DATE 1998 8 25 *
SOURCE_IMAGE_ID "NAPP 10554 29" *
SOURCE_IMAGE_DATE 1998 8 25 *
SOURCE_DEM_DATE 2000 0 0 *
AGENCY "WESTERN MAPPING CENTER (WMC)" *
PRODUCER "USDA FS GEOSPATIAL SERVICE AND TECHNOLOGY CENTER" *
PRODUCTION_SYSTEM "ORBIT OR_RECTIFY V.5.2" *
STANDARD_VERSION 1996 12 *
METADATA_DATE 2001 11 26 *
DATA_FILE_SIZE 48799152 *
BYTE_COUNT 6364 * * * * * * * * * * * * * * * * * * * * *
END_USGS_HEADER *
