BEGIN_USGS_DOQ_HEADER *
QUADRANGLE_NAME "TIMBER KNOB" *
QUADRANT NW *
WEST_LONGITUDE -119 22 30.000 *
EAST_LONGITUDE -119 18 45.000 *
NORTH_LATITUDE 37 37 30.000 *
SOUTH_LATITUDE 37 33 45.000 *
PRODUCTION_DATE 2001 11 20 *
RASTER_ORDER LEFT_RIGHT/TOP_BOTTOM *
BAND_ORGANIZATION "SINGLE FILE" *
BAND_CONTENT BLACK&WHITE *
BITS_PER_PIXEL 8 *
SAMPLES_AND_LINES 6374 7674 *
HORIZONTAL_DATUM NAD83 *
HORIZONTAL_COORDINATE_SYSTEM UTM *
COORDINATE_ZONE 11 *
HORIZONTAL_UNITS METERS *
HORIZONTAL_RESOLUTION 1.0 *
SECONDARY_HORIZONTAL_DATUM NAD27 *
XY_ORIGIN 289849.022 4167160.122 *
SECONDARY_XY_ORIGIN 289930.314 4166960.563 *
NATION US *
STATE CA *
NW_QUAD_CORNER_XY 290408.589 4166862.122 *
NE_QUAD_CORNER_XY 295924.932 4166724.286 *
SE_QUAD_CORNER_XY 295754.070 4159788.803 *
SW_QUAD_CORNER_XY 290233.102 4159926.559 *
SECONDARY_NW_QUAD_XY 290403.404 4166657.425 *
SECONDARY_NE_QUAD_XY 295919.883 4166519.585 *
SECONDARY_SE_QUAD_XY 295749.026 4159584.257 *
SECONDARY_SW_QUAD_XY 290227.921 4159722.017 *
RMSE_XY 2.10 *
IMAGE_SOURCE "BLACK AND WHITE FILM" *
SOURCE_IMAGE_ID "NAPP 10556 34" *
SOURCE_IMAGE_DATE 1998 8 26 *
SOURCE_IMAGE_ID "NAPP 10556 35" *
SOURCE_IMAGE_DATE 1998 8 26 *
SOURCE_IMAGE_ID "NAPP 10556 33" *
SOURCE_IMAGE_DATE 1998 8 26 *
SOURCE_IMAGE_ID "NAPP 10555 212" *
SOURCE_IMAGE_DATE 1998 8 26 *
SOURCE_IMAGE_ID "NAPP 10555 213" *
SOURCE_IMAGE_DATE 1998 8 26 *
SOURCE_IMAGE_ID "NAPP 10555 214" *
SOURCE_IMAGE_DATE 1998 8 26 *
SOURCE_IMAGE_ID "NAPP 10564 111" *
SOURCE_IMAGE_DATE 1998 9 18 *
SOURCE_IMAGE_ID "NAPP 10564 112" *
SOURCE_IMAGE_DATE 1998 9 18 *
SOURCE_IMAGE_ID "NAPP 10564 113" *
SOURCE_IMAGE_DATE 1998 9 18 *
SOURCE_DEM_DATE 2000 0 0 *
AGENCY "WESTERN MAPPING CENTER (WMC)" *
PRODUCER "USDA FS GEOSPATIAL SERVICE AND TECHNOLOGY CENTER" *
PRODUCTION_SYSTEM "ORBIT OR_RECTIFY V.5.2" *
STANDARD_VERSION 1996 12 *
METADATA_DATE 2001 11 26 *
DATA_FILE_SIZE 48920450 *
BYTE_COUNT 6374 * * * * * * * * * * * * * * * * * * * * *
END_USGS_HEADER *
