BEGIN_USGS_DOQ_HEADER *
QUADRANGLE_NAME "SING PEAK" 3.45 or 7.5-min. name*
QUADRANT SE quadrant indicator if cell size = 3.75-minutes*
WEST_LONGITUDE -119 26 15.000 signed deg min sec SDDD MM SS.SSS*
EAST_LONGITUDE -119 22 30.000 signed deg min sec SDDD MM SS.SSS*
NORTH_LATITUDE 37 33 45.000 signed deg min sec SDDD MM SS.SSS*
SOUTH_LATITUDE 37 30 0.000 signed deg min sec SDDD MM SS.SSS*
PRODUCTION_DATE 1996 5 17 yyyy mm dd*
RASTER_ORDER LEFT_RIGHT/TOP_BOTTOM video display order*
BAND_ORGANIZATION "SINGLE FILE" single file or BSQ, or BIL or BIP*
BAND_CONTENT BLACK&WHITE black&white or red green blue*
BITS_PER_PIXEL 8 radiometric resolution*
SAMPLES_AND_LINES 6420 7710 number of columns and rows*
HORIZONTAL_DATUM NAD83 primary horizontal datum*
HORIZONTAL_COORDINATE_SYSTEM UTM *
COORDINATE_ZONE 11 coordinate system zone number*
HORIZONTAL_UNITS METERS coordinate system units*
HORIZONTAL_RESOLUTION 1.00 pixel horiz. ground sample distance*
SECONDARY_HORIZONTAL_DATUM NAD27 secondary horizontal datum*
XY_ORIGIN 284130.000 4160370.000 coord. of upper left pixel pri. datum*
SECONDARY_XY_ORIGIN 284211.116 4160170.269 coord upper left pixel sec datum*
NATION US nation code*
STATE CA state fip code*
NW_QUAD_CORNER_XY 284712.069 4160067.995 XY coords. of pri. NW quad corner*
NE_QUAD_CORNER_XY 290233.102 4159926.559 XY coords. of pri. NE quad corner*
SE_QUAD_CORNER_XY 290057.865 4152991.058 XY coords. of pri. SE quad corner*
SW_QUAD_CORNER_XY 284532.213 4153132.411 XY coords. of pri. SW quad corner*
SECONDARY_NW_QUAD_XY 284706.746 4159863.455 XY coords. - sec. NW quad cor.*
SECONDARY_NE_QUAD_XY 290227.915 4159722.016 XY coords. - sec. NE quad cor.*
SECONDARY_SE_QUAD_XY 290052.682 4152786.670 XY coords. - sec. SE quad cor.*
SECONDARY_SW_QUAD_XY 284526.894 4152928.026 XY coords. - sec. SW quad cor.*
RMSE_XY 2.50 doq horiz. accuracy*
IMAGE_SOURCE "BLACK AND WHITE FILM" b&w, cir, natural color, other*
SOURCE_IMAGE_ID "NAPP 6308 060" source image id*
SOURCE_IMAGE_DATE 1993 9 24 source image date as yyyy mm dd*
SOURCE_DEM_DATE 1996 5 17 source dem date yyyy mm dd*
AGENCY "WESTERN MAPPING CENTER (WMC)" oversight agency*
PRODUCER "Analytical Surveys" producer/contractor*
PRODUCTION_SYSTEM "ORBIT OR_RECTIFY V.5.2" production system*
STANDARD_VERSION 1996 12 version of DOQ standard*
METADATA_DATE 1997 7 19 date created or changed, yyyy mm dd*
DATA_FILE_SIZE 49504620 data set size in bytes*
BYTE_COUNT 6420 header byte count* * * * * * * * * * * * * * * * * * * * * * * * * * * * * * * * * * * * * *
END_USGS_HEADER *
