BEGIN_USGS_DOQ_HEADER *
QUADRANGLE_NAME "SING PEAK" *
QUADRANT SE *
WEST_LONGITUDE -119 26 15.000 *
EAST_LONGITUDE -119 22 30.000 *
NORTH_LATITUDE 37 33 45.000 *
SOUTH_LATITUDE 37 30 0.000 *
PRODUCTION_DATE 2001 11 20 *
RASTER_ORDER LEFT_RIGHT/TOP_BOTTOM *
BAND_ORGANIZATION "SINGLE FILE" *
BAND_CONTENT BLACK&WHITE *
BITS_PER_PIXEL 8 *
SAMPLES_AND_LINES 6383 7677 *
HORIZONTAL_DATUM NAD83 *
HORIZONTAL_COORDINATE_SYSTEM UTM *
COORDINATE_ZONE 11 *
HORIZONTAL_UNITS METERS *
HORIZONTAL_RESOLUTION 1.0 *
SECONDARY_HORIZONTAL_DATUM NAD27 *
XY_ORIGIN 284148.071 4160365.995 *
SECONDARY_XY_ORIGIN 284229.267 4160166.311 *
NATION US *
STATE CA *
NW_QUAD_CORNER_XY 284712.069 4160067.995 *
NE_QUAD_CORNER_XY 290233.102 4159926.559 *
SE_QUAD_CORNER_XY 290057.865 4152991.058 *
SW_QUAD_CORNER_XY 284532.213 4153132.411 *
SECONDARY_NW_QUAD_XY 284706.751 4159863.457 *
SECONDARY_NE_QUAD_XY 290227.921 4159722.017 *
SECONDARY_SE_QUAD_XY 290052.689 4152786.671 *
SECONDARY_SW_QUAD_XY 284526.900 4152928.028 *
RMSE_XY 2.10 *
IMAGE_SOURCE "BLACK AND WHITE FILM" *
SOURCE_IMAGE_ID "NAPP 10555 211" *
SOURCE_IMAGE_DATE 1998 8 26 *
SOURCE_IMAGE_ID "NAPP 10564 108" *
SOURCE_IMAGE_DATE 1998 9 18 *
SOURCE_IMAGE_ID "NAPP 10555 212" *
SOURCE_IMAGE_DATE 1998 8 26 *
SOURCE_IMAGE_ID "NAPP 10556 42" *
SOURCE_IMAGE_DATE 1998 8 26 *
SOURCE_IMAGE_ID "NAPP 10556 43" *
SOURCE_IMAGE_DATE 1998 8 26 *
SOURCE_IMAGE_ID "NAPP 10556 44" *
SOURCE_IMAGE_DATE 1998 8 26 *
SOURCE_IMAGE_ID "NAPP 10565 89" *
SOURCE_IMAGE_DATE 1998 9 19 *
SOURCE_IMAGE_ID "NAPP 10556 36" *
SOURCE_IMAGE_DATE 1998 8 26 *
SOURCE_IMAGE_ID "NAPP 10556 35" *
SOURCE_IMAGE_DATE 1998 8 26 *
SOURCE_DEM_DATE 2000 0 0 *
AGENCY "WESTERN MAPPING CENTER (WMC)" *
PRODUCER "USDA FS GEOSPATIAL SERVICE AND TECHNOLOGY CENTER" *
PRODUCTION_SYSTEM "ORBIT OR_RECTIFY V.5.2" *
STANDARD_VERSION 1996 12 *
METADATA_DATE 2001 11 26 *
DATA_FILE_SIZE 49008674 *
BYTE_COUNT 6383 * * * * * * * * * * * * * * * * * * * * *
END_USGS_HEADER *
