BEGIN_USGS_DOQ_HEADER *
QUADRANGLE_NAME "MARIPOSA GROVE" 3.45 or 7.5-min. name*
QUADRANT NW quadrant indicator if cell size = 3.75-minutes*
WEST_LONGITUDE -119 37 30.000 signed deg min sec SDDD MM SS.SSS*
EAST_LONGITUDE -119 33 45.000 signed deg min sec SDDD MM SS.SSS*
NORTH_LATITUDE 37 37 30.000 signed deg min sec SDDD MM SS.SSS*
SOUTH_LATITUDE 37 33 45.000 signed deg min sec SDDD MM SS.SSS*
PRODUCTION_DATE 1996 5 8 yyyy mm dd*
RASTER_ORDER LEFT_RIGHT/TOP_BOTTOM video display order*
BAND_ORGANIZATION "SINGLE FILE" single file or BSQ, or BIL or BIP*
BAND_CONTENT BLACK&WHITE black&white or red green blue*
BITS_PER_PIXEL 8 radiometric resolution*
SAMPLES_AND_LINES 6420 7740 number of columns and rows*
HORIZONTAL_DATUM NAD83 primary horizontal datum*
HORIZONTAL_COORDINATE_SYSTEM UTM *
COORDINATE_ZONE 11 coordinate system zone number*
HORIZONTAL_UNITS METERS coordinate system units*
HORIZONTAL_RESOLUTION 1.00 pixel horiz. ground sample distance*
SECONDARY_HORIZONTAL_DATUM NAD27 secondary horizontal datum*
XY_ORIGIN 267750.000 4167780.000 coord. of upper left pixel pri. datum*
SECONDARY_XY_ORIGIN 267832.091 4167580.420 coord upper left pixel sec datum*
NATION US nation code*
STATE CA state fip code*
NW_QUAD_CORNER_XY 268342.560 4167450.287 XY coords. of pri. NW quad corner*
NE_QUAD_CORNER_XY 273859.169 4167297.722 XY coords. of pri. NE quad corner*
SE_QUAD_CORNER_XY 273669.803 4160361.908 XY coords. of pri. SE quad corner*
SW_QUAD_CORNER_XY 268148.566 4160514.385 XY coords. of pri. SW quad corner*
SECONDARY_NW_QUAD_XY 268336.822 4167245.603 XY coords. - sec. NW quad cor.*
SECONDARY_NE_QUAD_XY 273853.568 4167093.034 XY coords. - sec. NE quad cor.*
SECONDARY_SE_QUAD_XY 273664.206 4160157.374 XY coords. - sec. SE quad cor.*
SECONDARY_SW_QUAD_XY 268142.833 4160309.855 XY coords. - sec. SW quad cor.*
RMSE_XY 3.90 doq horiz. accuracy*
IMAGE_SOURCE "BLACK AND WHITE FILM" b&w, cir, natural color, other*
SOURCE_IMAGE_ID "NAPP 6311 008" source image id*
SOURCE_IMAGE_DATE 1993 9 26 source image date as yyyy mm dd*
SOURCE_DEM_DATE 1996 5 8 source dem date yyyy mm dd*
AGENCY "WESTERN MAPPING CENTER (WMC)" oversight agency*
PRODUCER "Analytical Surveys" producer/contractor*
PRODUCTION_SYSTEM "ORBIT OR_RECTIFY V.5.2" production system*
STANDARD_VERSION 1996 12 version of DOQ standard*
METADATA_DATE 1997 6 13 date created or changed, yyyy mm dd*
DATA_FILE_SIZE 49697220 data set size in bytes*
BYTE_COUNT 6420 header byte count* * * * * * * * * * * * * * * * * * * * * * * * * * * * * * * * * * * * * *
END_USGS_HEADER *
