BEGIN_USGS_DOQ_HEADER *
QUADRANGLE_NAME "WAWONA" *
QUADRANT SW *
WEST_LONGITUDE -119 45 0.000 *
EAST_LONGITUDE -119 41 15.000 *
NORTH_LATITUDE 37 33 45.000 *
SOUTH_LATITUDE 37 30 0.000 *
PRODUCTION_DATE 2001 11 20 *
RASTER_ORDER LEFT_RIGHT/TOP_BOTTOM *
BAND_ORGANIZATION "SINGLE FILE" *
BAND_CONTENT BLACK&WHITE *
BITS_PER_PIXEL 8 *
SAMPLES_AND_LINES 6409 7696 *
HORIZONTAL_DATUM NAD83 *
HORIZONTAL_COORDINATE_SYSTEM UTM *
COORDINATE_ZONE 11 *
HORIZONTAL_UNITS METERS *
HORIZONTAL_RESOLUTION 1.0 *
SECONDARY_HORIZONTAL_DATUM NAD27 *
XY_ORIGIN 256516.684 4161128.384 *
SECONDARY_XY_ORIGIN 256599.131 4160928.561 *
NATION US *
STATE CA *
NW_QUAD_CORNER_XY 257105.877 4160830.384 *
NE_QUAD_CORNER_XY 262627.258 4160670.543 *
SE_QUAD_CORNER_XY 262428.919 4153734.608 *
SW_QUAD_CORNER_XY 256902.915 4153894.355 *
SECONDARY_NW_QUAD_XY 257099.874 4160625.862 *
SECONDARY_NE_QUAD_XY 262621.393 4160466.018 *
SECONDARY_SE_QUAD_XY 262423.060 4153530.238 *
SECONDARY_SW_QUAD_XY 256896.918 4153689.989 *
RMSE_XY 1.43 *
IMAGE_SOURCE "BLACK AND WHITE FILM" *
SOURCE_IMAGE_ID "NAPP 10564 68" *
SOURCE_IMAGE_DATE 1998 9 18 *
SOURCE_IMAGE_ID "NAPP 10564 69" *
SOURCE_IMAGE_DATE 1998 9 18 *
SOURCE_IMAGE_ID "NAPP 10564 67" *
SOURCE_IMAGE_DATE 1998 9 18 *
SOURCE_IMAGE_ID "NAPP 10564 43" *
SOURCE_IMAGE_DATE 1998 9 18 *
SOURCE_IMAGE_ID "NAPP 10564 42" *
SOURCE_IMAGE_DATE 1998 9 18 *
SOURCE_IMAGE_ID "NAPP 10564 41" *
SOURCE_IMAGE_DATE 1998 9 18 *
SOURCE_IMAGE_ID "NAPP 10555 145" *
SOURCE_IMAGE_DATE 1998 8 26 *
SOURCE_IMAGE_ID "NAPP 10555 144" *
SOURCE_IMAGE_DATE 1998 8 26 *
SOURCE_IMAGE_ID "NAPP 10555 143" *
SOURCE_IMAGE_DATE 1998 8 26 *
SOURCE_DEM_DATE 2000 0 0 *
AGENCY "WESTERN MAPPING CENTER (WMC)" *
PRODUCER "USDA FS GEOSPATIAL SERVICE AND TECHNOLOGY CENTER" *
PRODUCTION_SYSTEM "ORBIT OR_RECTIFY V.5.2" *
STANDARD_VERSION 1996 12 *
METADATA_DATE 2001 11 26 *
DATA_FILE_SIZE 49330073 *
BYTE_COUNT 6409 * * * * * * * * * * * * * * * * * * * * * *
END_USGS_HEADER *
