BEGIN_USGS_DOQ_HEADER *
QUADRANGLE_NAME "MAMMOTH MOUNTAIN" *
QUADRANT SW *
WEST_LONGITUDE -119 7 30.000 *
EAST_LONGITUDE -119 3 45.000 *
NORTH_LATITUDE 37 41 15.000 *
SOUTH_LATITUDE 37 37 30.000 *
PRODUCTION_DATE 2001 12 19 *
RASTER_ORDER LEFT_RIGHT/TOP_BOTTOM *
BAND_ORGANIZATION "SINGLE FILE" *
BAND_CONTENT BLACK&WHITE *
BITS_PER_PIXEL 8 *
SAMPLES_AND_LINES 6354 7664 *
HORIZONTAL_DATUM NAD83 *
HORIZONTAL_COORDINATE_SYSTEM UTM *
COORDINATE_ZONE 11 *
HORIZONTAL_UNITS METERS *
HORIZONTAL_RESOLUTION 1.0 *
SECONDARY_HORIZONTAL_DATUM NAD27 *
XY_ORIGIN 312088.008 4173568.182 *
SECONDARY_XY_ORIGIN 312169.363 4173368.713 *
NATION US *
STATE CA *
NW_QUAD_CORNER_XY 312630.808 4173268.182 *
NE_QUAD_CORNER_XY 318142.282 4173144.997 *
SE_QUAD_CORNER_XY 317989.699 4166209.748 *
SW_QUAD_CORNER_XY 312473.595 4166332.862 *
SECONDARY_NW_QUAD_XY 312626.161 4173063.316 *
SECONDARY_NE_QUAD_XY 318137.772 4172940.128 *
SECONDARY_SE_QUAD_XY 317985.192 4166005.032 *
SECONDARY_SW_QUAD_XY 312468.951 4166128.150 *
RMSE_XY 1.80 *
IMAGE_SOURCE "BLACK AND WHITE FILM" *
SOURCE_IMAGE_ID "NAPP 10556 149" *
SOURCE_IMAGE_DATE 1998 8 26 *
SOURCE_IMAGE_ID "NAPP 10556 148" *
SOURCE_IMAGE_DATE 1998 8 26 *
SOURCE_IMAGE_ID "NAPP 10556 150" *
SOURCE_IMAGE_DATE 1998 8 26 *
SOURCE_IMAGE_ID "NAPP 10556 99" *
SOURCE_IMAGE_DATE 1998 8 26 *
SOURCE_IMAGE_ID "NAPP 10556 98" *
SOURCE_IMAGE_DATE 1998 8 26 *
SOURCE_IMAGE_ID "NAPP 10556 97" *
SOURCE_IMAGE_DATE 1998 8 26 *
SOURCE_DEM_DATE 2000 0 0 *
AGENCY "WESTERN MAPPING CENTER (WMC)" *
PRODUCER "USDA FS GEOSPATIAL SERVICE AND TECHNOLOGY CENTER" *
PRODUCTION_SYSTEM "ORBIT OR_RECTIFY V.5.2" *
STANDARD_VERSION 1996 12 *
METADATA_DATE 2001 12 31 *
DATA_FILE_SIZE 48703410 *
BYTE_COUNT 6354 * * * * * * * * * * * * * * * * * * * * * * * * * * *
END_USGS_HEADER *
