BEGIN_USGS_DOQ_HEADER *
QUADRANGLE_NAME "MOUNT RITTER" 3.45 or 7.5-min. name*
QUADRANT NW quadrant indicator if cell size = 3.75-minutes*
WEST_LONGITUDE -119 15 0.000 signed deg min sec SDDD MM SS.SSS*
EAST_LONGITUDE -119 11 15.000 signed deg min sec SDDD MM SS.SSS*
NORTH_LATITUDE 37 45 0.000 signed deg min sec SDDD MM SS.SSS*
SOUTH_LATITUDE 37 41 15.000 signed deg min sec SDDD MM SS.SSS*
PRODUCTION_DATE 1996 5 17 yyyy mm dd*
RASTER_ORDER LEFT_RIGHT/TOP_BOTTOM video display order*
BAND_ORGANIZATION "SINGLE FILE" single file or BSQ, or BIL or BIP*
BAND_CONTENT BLACK&WHITE black&white or red green blue*
BITS_PER_PIXEL 8 radiometric resolution*
SAMPLES_AND_LINES 6390 7710 number of columns and rows*
HORIZONTAL_DATUM NAD83 primary horizontal datum*
HORIZONTAL_COORDINATE_SYSTEM UTM *
COORDINATE_ZONE 11 coordinate system zone number*
HORIZONTAL_UNITS METERS coordinate system units*
HORIZONTAL_RESOLUTION 1.00 pixel horiz. ground sample distance*
SECONDARY_HORIZONTAL_DATUM NAD27 secondary horizontal datum*
XY_ORIGIN 301200.000 4180770.000 coord. of upper left pixel pri. datum*
SECONDARY_XY_ORIGIN 301281.618 4180570.598 coord upper left pixel sec datum*
NATION US nation code*
STATE CA state fip code*
NW_QUAD_CORNER_XY 301774.398 4180461.128 XY coords. of pri. NW quad corner*
NE_QUAD_CORNER_XY 307281.351 4180330.504 XY coords. of pri. NE quad corner*
SE_QUAD_CORNER_XY 307119.277 4173395.049 XY coords. of pri. SE quad corner*
SW_QUAD_CORNER_XY 301607.687 4173525.598 XY coords. of pri. SW quad corner*
SECONDARY_NW_QUAD_XY 301769.474 4180256.115 XY coords. - sec. NW quad cor.*
SECONDARY_NE_QUAD_XY 307276.563 4180125.489 XY coords. - sec. NE quad cor.*
SECONDARY_SE_QUAD_XY 307114.493 4173190.186 XY coords. - sec. SE quad cor.*
SECONDARY_SW_QUAD_XY 301602.766 4173320.739 XY coords. - sec. SW quad cor.*
RMSE_XY 4.30 doq horiz. accuracy*
IMAGE_SOURCE "BLACK AND WHITE FILM" b&w, cir, natural color, other*
SOURCE_IMAGE_ID "NAPP 6310 059" source image id*
SOURCE_IMAGE_DATE 1993 9 25 source image date as yyyy mm dd*
SOURCE_DEM_DATE 1996 5 17 source dem date yyyy mm dd*
AGENCY "WESTERN MAPPING CENTER (WMC)" oversight agency*
PRODUCER "Analytical Surveys" producer/contractor*
PRODUCTION_SYSTEM "ORBIT OR_RECTIFY V.5.2" production system*
STANDARD_VERSION 1996 12 version of DOQ standard*
METADATA_DATE 1997 7 19 date created or changed, yyyy mm dd*
DATA_FILE_SIZE 49273290 data set size in bytes*
BYTE_COUNT 6390 header byte count* * * * * * * * * * * * * * * * * * * * * * * * * * * * * * * * * * * * *
END_USGS_HEADER *
