BEGIN_USGS_DOQ_HEADER *
QUADRANGLE_NAME "MOUNT RITTER" *
QUADRANT SW *
WEST_LONGITUDE -119 15 0.000 *
EAST_LONGITUDE -119 11 15.000 *
NORTH_LATITUDE 37 41 15.000 *
SOUTH_LATITUDE 37 37 30.000 *
PRODUCTION_DATE 2001 11 20 *
RASTER_ORDER LEFT_RIGHT/TOP_BOTTOM *
BAND_ORGANIZATION "SINGLE FILE" *
BAND_CONTENT BLACK&WHITE *
BITS_PER_PIXEL 8 *
SAMPLES_AND_LINES 6360 7667 *
HORIZONTAL_DATUM NAD83 *
HORIZONTAL_COORDINATE_SYSTEM UTM *
COORDINATE_ZONE 11 *
HORIZONTAL_UNITS METERS *
HORIZONTAL_RESOLUTION 1.0 *
SECONDARY_HORIZONTAL_DATUM NAD27 *
XY_ORIGIN 301057.510 4173823.598 *
SECONDARY_XY_ORIGIN 301138.747 4173624.055 *
NATION US *
STATE CA *
NW_QUAD_CORNER_XY 301607.687 4173525.598 *
NE_QUAD_CORNER_XY 307119.277 4173395.049 *
SE_QUAD_CORNER_XY 306957.433 4166459.656 *
SW_QUAD_CORNER_XY 301441.213 4166590.131 *
SECONDARY_NW_QUAD_XY 301602.771 4173320.741 *
SECONDARY_NE_QUAD_XY 307114.493 4173190.186 *
SECONDARY_SE_QUAD_XY 306952.653 4166254.947 *
SECONDARY_SW_QUAD_XY 301436.301 4166385.427 *
RMSE_XY 2.10 *
IMAGE_SOURCE "BLACK AND WHITE FILM" *
SOURCE_IMAGE_ID "NAPP 10564 141" *
SOURCE_IMAGE_DATE 1998 9 18 *
SOURCE_IMAGE_ID "NAPP 10564 140" *
SOURCE_IMAGE_DATE 1998 9 18 *
SOURCE_IMAGE_ID "NAPP 10564 142" *
SOURCE_IMAGE_DATE 1998 9 18 *
SOURCE_IMAGE_ID "NAPP 10564 113" *
SOURCE_IMAGE_DATE 1998 9 18 *
SOURCE_IMAGE_ID "NAPP 10564 114" *
SOURCE_IMAGE_DATE 1998 9 18 *
SOURCE_IMAGE_ID "NAPP 10564 115" *
SOURCE_IMAGE_DATE 1998 9 18 *
SOURCE_IMAGE_ID "NAPP 10554 29" *
SOURCE_IMAGE_DATE 1998 8 25 *
SOURCE_IMAGE_ID "NAPP 10554 28" *
SOURCE_IMAGE_DATE 1998 8 25 *
SOURCE_IMAGE_ID "NAPP 10554 27" *
SOURCE_IMAGE_DATE 1998 8 25 *
SOURCE_DEM_DATE 2000 0 0 *
AGENCY "WESTERN MAPPING CENTER (WMC)" *
PRODUCER "USDA FS GEOSPATIAL SERVICE AND TECHNOLOGY CENTER" *
PRODUCTION_SYSTEM "ORBIT OR_RECTIFY V.5.2" *
STANDARD_VERSION 1996 12 *
METADATA_DATE 2001 11 26 *
DATA_FILE_SIZE 48768480 *
BYTE_COUNT 6360 * * * * * * * * * * * * * * * * * * * * *
END_USGS_HEADER *
