BEGIN_USGS_DOQ_HEADER *
QUADRANGLE_NAME "MOUNT LYELL" *
QUADRANT NE *
WEST_LONGITUDE -119 18 45.000 *
EAST_LONGITUDE -119 15 0.000 *
NORTH_LATITUDE 37 45 0.000 *
SOUTH_LATITUDE 37 41 15.000 *
PRODUCTION_DATE 2001 11 20 *
RASTER_ORDER LEFT_RIGHT/TOP_BOTTOM *
BAND_ORGANIZATION "SINGLE FILE" *
BAND_CONTENT BLACK&WHITE *
BITS_PER_PIXEL 8 *
SAMPLES_AND_LINES 6361 7671 *
HORIZONTAL_DATUM NAD83 *
HORIZONTAL_COORDINATE_SYSTEM UTM *
COORDINATE_ZONE 11 *
HORIZONTAL_UNITS METERS *
HORIZONTAL_RESOLUTION 1.0 *
SECONDARY_HORIZONTAL_DATUM NAD27 *
XY_ORIGIN 295711.577 4180893.436 *
SECONDARY_XY_ORIGIN 295793.388 4180694.145 *
NATION US *
STATE CA *
NW_QUAD_CORNER_XY 296267.386 4180595.436 *
NE_QUAD_CORNER_XY 301774.398 4180461.128 *
SE_QUAD_CORNER_XY 301607.687 4173525.598 *
SW_QUAD_CORNER_XY 296096.038 4173659.830 *
SECONDARY_NW_QUAD_XY 296262.329 4180390.429 *
SECONDARY_NE_QUAD_XY 301769.478 4180256.118 *
SECONDARY_SE_QUAD_XY 301602.771 4173320.741 *
SECONDARY_SW_QUAD_XY 296090.985 4173454.976 *
RMSE_XY 2.10 *
IMAGE_SOURCE "BLACK AND WHITE FILM" *
SOURCE_IMAGE_ID "NAPP 10564 116" *
SOURCE_IMAGE_DATE 1998 9 18 *
SOURCE_IMAGE_ID "NAPP 10564 115" *
SOURCE_IMAGE_DATE 1998 9 18 *
SOURCE_IMAGE_ID "NAPP 10564 117" *
SOURCE_IMAGE_DATE 1998 9 18 *
SOURCE_IMAGE_ID "NAPP 10556 31" *
SOURCE_IMAGE_DATE 1998 8 26 *
SOURCE_IMAGE_ID "NAPP 10556 30" *
SOURCE_IMAGE_DATE 1998 8 26 *
SOURCE_IMAGE_ID "NAPP 10556 29" *
SOURCE_IMAGE_DATE 1998 8 26 *
SOURCE_IMAGE_ID "NAPP 10564 142" *
SOURCE_IMAGE_DATE 1998 9 18 *
SOURCE_IMAGE_ID "NAPP 10564 143" *
SOURCE_IMAGE_DATE 1998 9 18 *
SOURCE_IMAGE_ID "NAPP 10564 144" *
SOURCE_IMAGE_DATE 1998 9 18 *
SOURCE_DEM_DATE 2000 0 0 *
AGENCY "WESTERN MAPPING CENTER (WMC)" *
PRODUCER "USDA FS GEOSPATIAL SERVICE AND TECHNOLOGY CENTER" *
PRODUCTION_SYSTEM "ORBIT OR_RECTIFY V.5.2" *
STANDARD_VERSION 1996 12 *
METADATA_DATE 2001 11 26 *
DATA_FILE_SIZE 48801592 *
BYTE_COUNT 6361 * * * * * * * * * * * * * * * * * * * * *
END_USGS_HEADER *
