BEGIN_USGS_DOQ_HEADER *
QUADRANGLE_NAME "EL CAPITAN" *
QUADRANT NE *
WEST_LONGITUDE -119 41 15.000 *
EAST_LONGITUDE -119 37 30.000 *
NORTH_LATITUDE 37 45 0.000 *
SOUTH_LATITUDE 37 41 15.000 *
PRODUCTION_DATE 2001 11 20 *
RASTER_ORDER LEFT_RIGHT/TOP_BOTTOM *
BAND_ORGANIZATION "SINGLE FILE" *
BAND_CONTENT BLACK&WHITE *
BITS_PER_PIXEL 8 *
SAMPLES_AND_LINES 6391 7694 *
HORIZONTAL_DATUM NAD83 *
HORIZONTAL_COORDINATE_SYSTEM UTM *
COORDINATE_ZONE 11 *
HORIZONTAL_UNITS METERS *
HORIZONTAL_RESOLUTION 1.0 *
SECONDARY_HORIZONTAL_DATUM NAD27 *
XY_ORIGIN 262638.295 4181776.695 *
SECONDARY_XY_ORIGIN 262721.145 4181577.443 *
NATION US *
STATE CA *
NW_QUAD_CORNER_XY 263223.972 4181478.695 *
NE_QUAD_CORNER_XY 268731.376 4181322.267 *
SE_QUAD_CORNER_XY 268536.830 4174386.248 *
SW_QUAD_CORNER_XY 263024.785 4174542.587 *
SECONDARY_NW_QUAD_XY 263218.093 4181273.707 *
SECONDARY_NE_QUAD_XY 268725.634 4181117.276 *
SECONDARY_SE_QUAD_XY 268531.093 4174181.410 *
SECONDARY_SW_QUAD_XY 263018.911 4174337.752 *
RMSE_XY 1.43 *
IMAGE_SOURCE "BLACK AND WHITE FILM" *
SOURCE_IMAGE_ID "NAPP 10555 138" *
SOURCE_IMAGE_DATE 1998 8 26 *
SOURCE_IMAGE_ID "NAPP 10555 139" *
SOURCE_IMAGE_DATE 1998 8 26 *
SOURCE_IMAGE_ID "NAPP 10555 137" *
SOURCE_IMAGE_DATE 1998 8 26 *
SOURCE_IMAGE_ID "NAPP 10568 18" *
SOURCE_IMAGE_DATE 1999 8 1 *
SOURCE_IMAGE_ID "NAPP 10568 19" *
SOURCE_IMAGE_DATE 1999 8 1 *
SOURCE_IMAGE_ID "NAPP 10568 20" *
SOURCE_IMAGE_DATE 1999 8 1 *
SOURCE_DEM_DATE 2000 0 0 *
AGENCY "WESTERN MAPPING CENTER (WMC)" *
PRODUCER "USDA FS GEOSPATIAL SERVICE AND TECHNOLOGY CENTER" *
PRODUCTION_SYSTEM "ORBIT OR_RECTIFY V.5.2" *
STANDARD_VERSION 1996 12 *
METADATA_DATE 2001 11 26 *
DATA_FILE_SIZE 49178745 *
BYTE_COUNT 6391 * * * * * * * * * * * * * * * * * * * * * * * * * * *
END_USGS_HEADER *
